BEGIN:VCALENDAR
VERSION:2.0
PRODID:-//midwestchildcare.org//NONSGML kigkonsult.se iCalcreator 2.30.10//
CALSCALE:GREGORIAN
METHOD:PUBLISH
UID:e8cb809d-2a42-44bb-8db7-d19c84a18e02
X-WR-CALDESC:You are invited to a Zoom meeting. \nWhen: Oct 7\, 2021 09:30 
 AM Central Time (US and Canada) \n\nRegister in advance for this meeting:
 \nhttps://us02web.zoom.us/meeting/register/tZIqcO2gpz8iGtGVP7-VU9c_uJMZUl8
 9Kcqx \n\nAfter registering\, you will receive a confirmation email contai
 ning information about joining the meeting.
X-WR-RELCALID:0e1e4c2662199daa5b2728916d440bd6
X-WR-TIMEZONE:America/Chicago
BEGIN:VTIMEZONE
TZID:America/Chicago
BEGIN:STANDARD
TZNAME:CST
DTSTART:20201101T020000
TZOFFSETFROM:-0500
TZOFFSETTO:-0600
RDATE:20211107T020000
RDATE:20221106T020000
END:STANDARD
BEGIN:DAYLIGHT
TZNAME:CDT
DTSTART:20210314T020000
TZOFFSETFROM:-0600
TZOFFSETTO:-0500
RDATE:20220313T020000
RDATE:20230312T020000
END:DAYLIGHT
END:VTIMEZONE
BEGIN:VEVENT
UID:25b8b953-7bea-4a23-bd30-7ebf71e3614c
DTSTAMP:20260425T201324Z
DESCRIPTION:You are invited to a Zoom meeting. \nWhen: Oct 7\, 2021 09:30 A
 M Central Time (US and Canada) \n\nRegister in advance for this meeting:\n
 https://us02web.zoom.us/meeting/register/tZIqcO2gpz8iGtGVP7-VU9c_uJMZUl89K
 cqx \n\nAfter registering\, you will receive a confirmation email containi
 ng information about joining the meeting.
DTSTART;TZID=America/Chicago:20211007T093000
DTEND;TZID=America/Chicago:20211007T103000
LOCATION:
SUMMARY:Dogs Colorful Day: An Interactive Preschool Class
END:VEVENT
END:VCALENDAR
