BEGIN:VCALENDAR
VERSION:2.0
PRODID:-//midwestchildcare.org//NONSGML kigkonsult.se iCalcreator 2.30.10//
CALSCALE:GREGORIAN
METHOD:PUBLISH
UID:b7c98e48-b398-41bf-b6bf-8e4a7067966d
X-WR-CALDESC:You are invited to a Zoom meeting. \nWhen: Oct 7\, 2021 09:00 
 AM Central Time (US and Canada) \n\nRegister in advance for this meeting:
 \nhttps://us02web.zoom.us/meeting/register/tZcpd-qsrz4pGN2ASLPPoH16scS4dvK
 X6XZD \n\nAfter registering\, you will receive a confirmation email contai
 ning information about joining the meeting.
X-WR-RELCALID:18471b0ed15ead9b26c107c4374f19d7
X-WR-TIMEZONE:America/Chicago
BEGIN:VTIMEZONE
TZID:America/Chicago
BEGIN:STANDARD
TZNAME:CST
DTSTART:20201101T020000
TZOFFSETFROM:-0500
TZOFFSETTO:-0600
RDATE:20211107T020000
RDATE:20221106T020000
END:STANDARD
BEGIN:DAYLIGHT
TZNAME:CDT
DTSTART:20210314T020000
TZOFFSETFROM:-0600
TZOFFSETTO:-0500
RDATE:20220313T020000
RDATE:20230312T020000
END:DAYLIGHT
END:VTIMEZONE
BEGIN:VEVENT
UID:0f69235d-958e-4489-a81a-2f7e1acbde0f
DTSTAMP:20260425T201144Z
DESCRIPTION:You are invited to a Zoom meeting. \nWhen: Oct 7\, 2021 09:00 A
 M Central Time (US and Canada) \n\nRegister in advance for this meeting:\n
 https://us02web.zoom.us/meeting/register/tZcpd-qsrz4pGN2ASLPPoH16scS4dvKX6
 XZD \n\nAfter registering\, you will receive a confirmation email containi
 ng information about joining the meeting.
DTSTART;TZID=America/Chicago:20211007T090000
DTEND;TZID=America/Chicago:20211007T100000
LOCATION:
SUMMARY:Dogs Colorful Day: An Interactive Preschool Class
END:VEVENT
END:VCALENDAR
