BEGIN:VCALENDAR
VERSION:2.0
PRODID:-//midwestchildcare.org//NONSGML kigkonsult.se iCalcreator 2.30.10//
CALSCALE:GREGORIAN
METHOD:PUBLISH
UID:e7a90e9d-110c-43ec-ba85-1c7ed7630a26
X-WR-CALDESC:You are invited to a Zoom meeting.\nWhen: Sep 30\, 2021 10:00 
 AM Central Time (US and Canada)\nMeeting ID: 899 9808 4185\nRegister in ad
 vance for this meeting:\nhttps://us02web.zoom.us/meeting/register/tZ0kfuGo
 pj8rEtE6Cm98KNGI8nZoU_4K51ss\n\nAfter registering\, you will receive a con
 firmation email containing information about joining the meeting.
X-WR-RELCALID:cdb4ed280a595a8a7f25f6a503017f3a
X-WR-TIMEZONE:America/Chicago
BEGIN:VTIMEZONE
TZID:America/Chicago
BEGIN:STANDARD
TZNAME:CST
DTSTART:20201101T020000
TZOFFSETFROM:-0500
TZOFFSETTO:-0600
RDATE:20211107T020000
RDATE:20221106T020000
END:STANDARD
BEGIN:DAYLIGHT
TZNAME:CDT
DTSTART:20210314T020000
TZOFFSETFROM:-0600
TZOFFSETTO:-0500
RDATE:20220313T020000
RDATE:20230312T020000
END:DAYLIGHT
END:VTIMEZONE
BEGIN:VEVENT
UID:31eff90d-a7a4-4515-947d-4870482d912b
DTSTAMP:20260425T221242Z
DESCRIPTION:You are invited to a Zoom meeting.\nWhen: Sep 30\, 2021 10:00 A
 M Central Time (US and Canada)\nMeeting ID: 899 9808 4185\nRegister in adv
 ance for this meeting:\nhttps://us02web.zoom.us/meeting/register/tZ0kfuGop
 j8rEtE6Cm98KNGI8nZoU_4K51ss\n\nAfter registering\, you will receive a conf
 irmation email containing information about joining the meeting.
DTSTART;TZID=America/Chicago:20210930T100000
DTEND;TZID=America/Chicago:20210930T103000
LOCATION:
SUMMARY:Red Leaf\, Yellow Leaf: An Interactive Preschool Class
END:VEVENT
END:VCALENDAR
