BEGIN:VCALENDAR
VERSION:2.0
PRODID:-//midwestchildcare.org//NONSGML kigkonsult.se iCalcreator 2.30.10//
CALSCALE:GREGORIAN
METHOD:PUBLISH
UID:43dba714-f031-43f1-8e72-32fba051720b
X-WR-CALDESC:You are invited to a Zoom meeting.\nWhen: Sep 30\, 2021 09:00 
 AM Central Time (US and Canada)\nMeeting ID: 811 5020 4350\nRegister in ad
 vance for this meeting:\nhttps://us02web.zoom.us/meeting/register/tZUscumq
 rj8pH9T6FvhA31QzFipcK6fHT559\n\nAfter registering\, you will receive a con
 firmation email containing information about joining the meeting.
X-WR-RELCALID:400654f3bcc16e69637e33dd2d852d2f
X-WR-TIMEZONE:America/Chicago
BEGIN:VTIMEZONE
TZID:America/Chicago
BEGIN:STANDARD
TZNAME:CST
DTSTART:20201101T020000
TZOFFSETFROM:-0500
TZOFFSETTO:-0600
RDATE:20211107T020000
RDATE:20221106T020000
END:STANDARD
BEGIN:DAYLIGHT
TZNAME:CDT
DTSTART:20210314T020000
TZOFFSETFROM:-0600
TZOFFSETTO:-0500
RDATE:20220313T020000
RDATE:20230312T020000
END:DAYLIGHT
END:VTIMEZONE
BEGIN:VEVENT
UID:355a2817-79bd-4afe-9e79-7e9e163775ec
DTSTAMP:20260425T221126Z
DESCRIPTION:You are invited to a Zoom meeting.\nWhen: Sep 30\, 2021 09:00 A
 M Central Time (US and Canada)\nMeeting ID: 811 5020 4350\nRegister in adv
 ance for this meeting:\nhttps://us02web.zoom.us/meeting/register/tZUscumqr
 j8pH9T6FvhA31QzFipcK6fHT559\n\nAfter registering\, you will receive a conf
 irmation email containing information about joining the meeting.
DTSTART;TZID=America/Chicago:20210930T090000
DTEND;TZID=America/Chicago:20210930T093000
LOCATION:
SUMMARY:Red Leaf\, Yellow Leaf: An Interactive Preschool Class
END:VEVENT
END:VCALENDAR
