BEGIN:VCALENDAR
VERSION:2.0
PRODID:-//midwestchildcare.org//NONSGML kigkonsult.se iCalcreator 2.30.10//
CALSCALE:GREGORIAN
METHOD:PUBLISH
UID:6218f91e-557b-4764-92fd-a7fde8c10219
X-WR-CALDESC:Fall Food Ideas\nPlease register for Healthy and Delicious Fal
 l Food Ideas on Sep 17\, 2021 1:00 PM CDT at:\n\nhttps://attendee.gotowebi
 nar.com/register/2745579907692573709
X-WR-RELCALID:292db3d113f8a23a1f9fd87a1659b599
X-WR-TIMEZONE:America/Chicago
BEGIN:VTIMEZONE
TZID:America/Chicago
BEGIN:STANDARD
TZNAME:CST
DTSTART:20201101T020000
TZOFFSETFROM:-0500
TZOFFSETTO:-0600
RDATE:20211107T020000
RDATE:20221106T020000
END:STANDARD
BEGIN:DAYLIGHT
TZNAME:CDT
DTSTART:20210314T020000
TZOFFSETFROM:-0600
TZOFFSETTO:-0500
RDATE:20220313T020000
RDATE:20230312T020000
END:DAYLIGHT
END:VTIMEZONE
BEGIN:VEVENT
UID:7e7d6465-50c1-4002-8443-e40bc6001de8
DTSTAMP:20260425T223923Z
DESCRIPTION:Fall Food Ideas\nPlease register for Healthy and Delicious Fall
  Food Ideas on Sep 17\, 2021 1:00 PM CDT at:\n\nhttps://attendee.gotowebin
 ar.com/register/2745579907692573709
DTSTART;TZID=America/Chicago:20210917T130000
DTEND;TZID=America/Chicago:20210917T140000
LOCATION:
SUMMARY:Healthy and Delicious Fall Food Ideas | Webinar
END:VEVENT
END:VCALENDAR
