BEGIN:VCALENDAR
VERSION:2.0
PRODID:-//midwestchildcare.org//NONSGML kigkonsult.se iCalcreator 2.30.10//
CALSCALE:GREGORIAN
METHOD:PUBLISH
UID:6ecb1dee-cb85-455f-920b-0b23bef3bbfd
X-WR-CALDESC:Fall Curriculum and Activity ideas\nPlease register for Fall C
 urriculum and Activity ideas  on Sep 17\, 2021 7:00 PM CDT at:\n\nhttps://
 attendee.gotowebinar.com/register/2434690795915718925
X-WR-RELCALID:75186a13a4d089779e88946da0768b2f
X-WR-TIMEZONE:America/Chicago
BEGIN:VTIMEZONE
TZID:America/Chicago
BEGIN:STANDARD
TZNAME:CST
DTSTART:20201101T020000
TZOFFSETFROM:-0500
TZOFFSETTO:-0600
RDATE:20211107T020000
RDATE:20221106T020000
END:STANDARD
BEGIN:DAYLIGHT
TZNAME:CDT
DTSTART:20210314T020000
TZOFFSETFROM:-0600
TZOFFSETTO:-0500
RDATE:20220313T020000
RDATE:20230312T020000
END:DAYLIGHT
END:VTIMEZONE
BEGIN:VEVENT
UID:c420d172-bb3c-4fdc-b8f5-dd25b5b1fe26
DTSTAMP:20260425T221254Z
DESCRIPTION:Fall Curriculum and Activity ideas\nPlease register for Fall Cu
 rriculum and Activity ideas  on Sep 17\, 2021 7:00 PM CDT at:\n\nhttps://a
 ttendee.gotowebinar.com/register/2434690795915718925
DTSTART;TZID=America/Chicago:20210917T190000
DTEND;TZID=America/Chicago:20210917T200000
LOCATION:
SUMMARY:Fall Curriculum and Activity ideas | Webinar
END:VEVENT
END:VCALENDAR
