BEGIN:VCALENDAR
VERSION:2.0
PRODID:-//midwestchildcare.org//NONSGML kigkonsult.se iCalcreator 2.30.10//
CALSCALE:GREGORIAN
METHOD:PUBLISH
UID:1dbf7240-7b66-45f8-8767-a5d494ca33ef
X-WR-CALDESC:You are invited to a Zoom meeting.\nWhen: Sep 2\, 2021 10:00 A
 M Central Time (US and Canada)\nMeeting ID: 898 0457 4001\nRegister in adv
 ance for this meeting:\nhttps://us02web.zoom.us/meeting/register/tZ0ld-2tq
 T8qGtXgNSJCynMhB0b7RbBRY0a7\n\nAfter registering\, you will receive a conf
 irmation email containing information about joining the meeting.
X-WR-RELCALID:38fc25ddb409cc1cf189910b4a7d5dd0
X-WR-TIMEZONE:America/Chicago
BEGIN:VTIMEZONE
TZID:America/Chicago
BEGIN:STANDARD
TZNAME:CST
DTSTART:20201101T020000
TZOFFSETFROM:-0500
TZOFFSETTO:-0600
RDATE:20211107T020000
RDATE:20221106T020000
END:STANDARD
BEGIN:DAYLIGHT
TZNAME:CDT
DTSTART:20210314T020000
TZOFFSETFROM:-0600
TZOFFSETTO:-0500
RDATE:20220313T020000
END:DAYLIGHT
END:VTIMEZONE
BEGIN:VEVENT
UID:c95b3c0a-f158-4553-8906-c5b68658ad33
DTSTAMP:20260425T221104Z
DESCRIPTION:You are invited to a Zoom meeting.\nWhen: Sep 2\, 2021 10:00 AM
  Central Time (US and Canada)\nMeeting ID: 898 0457 4001\nRegister in adva
 nce for this meeting:\nhttps://us02web.zoom.us/meeting/register/tZ0ld-2tqT
 8qGtXgNSJCynMhB0b7RbBRY0a7\n\nAfter registering\, you will receive a confi
 rmation email containing information about joining the meeting.
DTSTART;TZID=America/Chicago:20210902T100000
DTEND;TZID=America/Chicago:20210902T103000
LOCATION:
SUMMARY:Tangled | Interactive Preschool Class
END:VEVENT
END:VCALENDAR
