BEGIN:VCALENDAR
VERSION:2.0
PRODID:-//midwestchildcare.org//NONSGML kigkonsult.se iCalcreator 2.30.10//
CALSCALE:GREGORIAN
METHOD:PUBLISH
UID:2d4e4e21-df62-48d1-be74-a5dc1a01d75a
X-WR-CALDESC:You are invited to a Zoom meeting.\nWhen: Sep 2\, 2021 09:00 A
 M Central Time (US and Canada)\nMeeting ID: 882 5725 1420\nRegister in adv
 ance for this meeting:\nhttps://us02web.zoom.us/meeting/register/tZwvcu6qq
 zouGNRF4adVqidlcJO5Jujs4gSL\n\nAfter registering\, you will receive a conf
 irmation email containing information about joining the meeting.
X-WR-RELCALID:a0c904b1cdbefa147d5bea04e90d2074
X-WR-TIMEZONE:America/Chicago
BEGIN:VTIMEZONE
TZID:America/Chicago
BEGIN:STANDARD
TZNAME:CST
DTSTART:20201101T020000
TZOFFSETFROM:-0500
TZOFFSETTO:-0600
RDATE:20211107T020000
RDATE:20221106T020000
END:STANDARD
BEGIN:DAYLIGHT
TZNAME:CDT
DTSTART:20210314T020000
TZOFFSETFROM:-0600
TZOFFSETTO:-0500
RDATE:20220313T020000
END:DAYLIGHT
END:VTIMEZONE
BEGIN:VEVENT
UID:fa101fcf-40d2-4c3b-8784-56d20ead2d70
DTSTAMP:20260425T221040Z
DESCRIPTION:You are invited to a Zoom meeting.\nWhen: Sep 2\, 2021 09:00 AM
  Central Time (US and Canada)\nMeeting ID: 882 5725 1420\nRegister in adva
 nce for this meeting:\nhttps://us02web.zoom.us/meeting/register/tZwvcu6qqz
 ouGNRF4adVqidlcJO5Jujs4gSL\n\nAfter registering\, you will receive a confi
 rmation email containing information about joining the meeting.
DTSTART;TZID=America/Chicago:20210902T090000
DTEND;TZID=America/Chicago:20210902T093000
LOCATION:
SUMMARY:Tangled | Interactive Preschool Class
END:VEVENT
END:VCALENDAR
