BEGIN:VCALENDAR
VERSION:2.0
PRODID:-//midwestchildcare.org//NONSGML kigkonsult.se iCalcreator 2.30.10//
CALSCALE:GREGORIAN
METHOD:PUBLISH
UID:b85d12ba-761c-4ac0-baef-572e169b532a
X-WR-CALDESC:Please register for Meal Planning using CACFP Guidelines on Au
 g 31\, 2021 1:00 PM CDT at:\n\nhttps://attendee.gotowebinar.com/register/2
 342566014527841551\n\nAfter registering\, you will receive a confirmation 
 email containing information about joining the webinar.
X-WR-RELCALID:6fbf6c3665f7458ec5bcef7ba304f9e9
X-WR-TIMEZONE:America/Chicago
BEGIN:VTIMEZONE
TZID:America/Chicago
BEGIN:STANDARD
TZNAME:CST
DTSTART:20201101T020000
TZOFFSETFROM:-0500
TZOFFSETTO:-0600
RDATE:20211107T020000
RDATE:20221106T020000
END:STANDARD
BEGIN:DAYLIGHT
TZNAME:CDT
DTSTART:20210314T020000
TZOFFSETFROM:-0600
TZOFFSETTO:-0500
RDATE:20220313T020000
END:DAYLIGHT
END:VTIMEZONE
BEGIN:VEVENT
UID:f311a970-8e7e-4b0b-b894-88466abae1ed
DTSTAMP:20260426T000600Z
DESCRIPTION:Please register for Meal Planning using CACFP Guidelines on Aug
  31\, 2021 1:00 PM CDT at:\n\nhttps://attendee.gotowebinar.com/register/23
 42566014527841551\n\nAfter registering\, you will receive a confirmation e
 mail containing information about joining the webinar.
DTSTART;TZID=America/Chicago:20210831T130000
DTEND;TZID=America/Chicago:20210831T140000
LOCATION:
SUMMARY:Webinar: Meal Planning using CACFP Guidelines
END:VEVENT
END:VCALENDAR
