BEGIN:VCALENDAR
VERSION:2.0
PRODID:-//midwestchildcare.org//NONSGML kigkonsult.se iCalcreator 2.30.10//
CALSCALE:GREGORIAN
METHOD:PUBLISH
UID:e6a57278-b7ee-4ec1-b600-497fa3c87571
X-WR-CALDESC:Please register for Meal Planning using CACFP Guidelines on Au
 g 31\, 2021 1:00 PM CDT at:\n\nhttps://attendee.gotowebinar.com/register/2
 342566014527841551
X-WR-RELCALID:1ec03e2d488c31cb041a6ab9c6875e1e
X-WR-TIMEZONE:America/Chicago
BEGIN:VTIMEZONE
TZID:America/Chicago
BEGIN:STANDARD
TZNAME:CST
DTSTART:20201101T020000
TZOFFSETFROM:-0500
TZOFFSETTO:-0600
RDATE:20211107T020000
RDATE:20221106T020000
END:STANDARD
BEGIN:DAYLIGHT
TZNAME:CDT
DTSTART:20210314T020000
TZOFFSETFROM:-0600
TZOFFSETTO:-0500
RDATE:20220313T020000
END:DAYLIGHT
END:VTIMEZONE
BEGIN:VEVENT
UID:63f7132d-aaf6-421a-ae4c-d2ff710680e8
DTSTAMP:20260425T235906Z
DESCRIPTION:Please register for Meal Planning using CACFP Guidelines on Aug
  31\, 2021 1:00 PM CDT at:\n\nhttps://attendee.gotowebinar.com/register/23
 42566014527841551
DTSTART;TZID=America/Chicago:20210831T130000
DTEND;TZID=America/Chicago:20210831T140000
LOCATION:
SUMMARY:Meal Planning using CACFP Guidelines | Webinar
END:VEVENT
END:VCALENDAR
