BEGIN:VCALENDAR
VERSION:2.0
PRODID:-//midwestchildcare.org//NONSGML kigkonsult.se iCalcreator 2.30.10//
CALSCALE:GREGORIAN
METHOD:PUBLISH
UID:7206aa16-b579-4e7d-98c9-5d5c15d34851
X-WR-CALDESC:Nope\, Never\, Not for Me\nWhen: Aug 26\, 2021 10:00 AM Centra
 l Time (US and Canada) \n
X-WR-RELCALID:46b698d5683f4bf81d600f256ae00587
X-WR-TIMEZONE:America/Chicago
BEGIN:VTIMEZONE
TZID:America/Chicago
BEGIN:STANDARD
TZNAME:CST
DTSTART:20201101T020000
TZOFFSETFROM:-0500
TZOFFSETTO:-0600
RDATE:20211107T020000
RDATE:20221106T020000
END:STANDARD
BEGIN:DAYLIGHT
TZNAME:CDT
DTSTART:20210314T020000
TZOFFSETFROM:-0600
TZOFFSETTO:-0500
RDATE:20220313T020000
END:DAYLIGHT
END:VTIMEZONE
BEGIN:VEVENT
UID:b9e4172f-94ae-479a-8e35-e7ec63c9cbc9
DTSTAMP:20260426T000702Z
DESCRIPTION:Nope\, Never\, Not for Me\nWhen: Aug 26\, 2021 10:00 AM Central
  Time (US and Canada) \n
DTSTART;TZID=America/Chicago:20210826T100000
DTEND;TZID=America/Chicago:20210826T103000
LOCATION:
SUMMARY:Nope\, Never\, Not for Me | An Interactive Preschool Class
END:VEVENT
END:VCALENDAR
