BEGIN:VCALENDAR
VERSION:2.0
PRODID:-//midwestchildcare.org//NONSGML kigkonsult.se iCalcreator 2.30.10//
CALSCALE:GREGORIAN
METHOD:PUBLISH
UID:5344ebb9-0cae-45c1-aee2-8fecc014f348
X-WR-CALDESC:Nope\, Never\, Not for Me\nWhen: Aug 26\, 2021 09:30 AM Centra
 l Time (US and Canada)\n\nRegister in advance for this meeting:\nhttps://u
 s02web.zoom.us/meeting/register/tZ0pcuirqT4vH9zJmaZaar27CYZ_Y_uVuTnn
X-WR-RELCALID:dafc3a5a5fd58461174d7da267a598e5
X-WR-TIMEZONE:America/Chicago
BEGIN:VTIMEZONE
TZID:America/Chicago
BEGIN:STANDARD
TZNAME:CST
DTSTART:20201101T020000
TZOFFSETFROM:-0500
TZOFFSETTO:-0600
RDATE:20211107T020000
RDATE:20221106T020000
END:STANDARD
BEGIN:DAYLIGHT
TZNAME:CDT
DTSTART:20210314T020000
TZOFFSETFROM:-0600
TZOFFSETTO:-0500
RDATE:20220313T020000
END:DAYLIGHT
END:VTIMEZONE
BEGIN:VEVENT
UID:f0d0172a-48ae-4b9f-b3eb-e7e81c57814d
DTSTAMP:20260425T235734Z
DESCRIPTION:Nope\, Never\, Not for Me\nWhen: Aug 26\, 2021 09:30 AM Central
  Time (US and Canada)\n\nRegister in advance for this meeting:\nhttps://us
 02web.zoom.us/meeting/register/tZ0pcuirqT4vH9zJmaZaar27CYZ_Y_uVuTnn
DTSTART;TZID=America/Chicago:20210826T093000
DTEND;TZID=America/Chicago:20210826T100000
LOCATION:
SUMMARY:Nope\, Never\, Not for Me | An Interactive Preschool Class
END:VEVENT
END:VCALENDAR
