BEGIN:VCALENDAR
VERSION:2.0
PRODID:-//midwestchildcare.org//NONSGML kigkonsult.se iCalcreator 2.30.10//
CALSCALE:GREGORIAN
METHOD:PUBLISH
UID:b23b8a42-3927-4187-a14d-b32d94040e65
X-WR-CALDESC:Nope\, Never\, Not for Me\nWhen: Aug 26\, 2021 09:00 AM Centra
 l Time (US and Canada) \n\nRegister in advance for this meeting:\nhttps://
 us02web.zoom.us/meeting/register/tZUtc-Cqpj4uHNTWxdH4TxNU_8ysc---R1tR
X-WR-RELCALID:8d44dd1357432a306c7b2483c748f95f
X-WR-TIMEZONE:America/Chicago
BEGIN:VTIMEZONE
TZID:America/Chicago
BEGIN:STANDARD
TZNAME:CST
DTSTART:20201101T020000
TZOFFSETFROM:-0500
TZOFFSETTO:-0600
RDATE:20211107T020000
RDATE:20221106T020000
END:STANDARD
BEGIN:DAYLIGHT
TZNAME:CDT
DTSTART:20210314T020000
TZOFFSETFROM:-0600
TZOFFSETTO:-0500
RDATE:20220313T020000
END:DAYLIGHT
END:VTIMEZONE
BEGIN:VEVENT
UID:60ceebab-13f3-4ba9-af2d-db086bff292b
DTSTAMP:20260426T001823Z
DESCRIPTION:Nope\, Never\, Not for Me\nWhen: Aug 26\, 2021 09:00 AM Central
  Time (US and Canada) \n\nRegister in advance for this meeting:\nhttps://u
 s02web.zoom.us/meeting/register/tZUtc-Cqpj4uHNTWxdH4TxNU_8ysc---R1tR
DTSTART;TZID=America/Chicago:20210826T090000
DTEND;TZID=America/Chicago:20210826T093000
LOCATION:
SUMMARY:Nope\, Never\, Not for Me | An Interactive Preschool Class
END:VEVENT
END:VCALENDAR
