BEGIN:VCALENDAR
VERSION:2.0
PRODID:-//midwestchildcare.org//NONSGML kigkonsult.se iCalcreator 2.30.10//
CALSCALE:GREGORIAN
METHOD:PUBLISH
UID:780670f2-2265-40e9-b0f2-ed4bb3c3c1ab
X-WR-CALDESC:You are invited to a Zoom meeting.\nWhen: Aug 19\, 2021 10:00 
 AM Central Time (US and Canada)\nMeeting ID: 839 4581 4527\nRegister in ad
 vance for this meeting:\nhttps://us02web.zoom.us/meeting/register/tZckc-yg
 rz8vGNOUVb_pBZItJPoMUjoWySyh
X-WR-RELCALID:1f4c31fe689cb7e78e88c7cc8959cc4f
X-WR-TIMEZONE:America/Chicago
BEGIN:VTIMEZONE
TZID:America/Chicago
BEGIN:STANDARD
TZNAME:CST
DTSTART:20201101T020000
TZOFFSETFROM:-0500
TZOFFSETTO:-0600
RDATE:20211107T020000
RDATE:20221106T020000
END:STANDARD
BEGIN:DAYLIGHT
TZNAME:CDT
DTSTART:20210314T020000
TZOFFSETFROM:-0600
TZOFFSETTO:-0500
RDATE:20220313T020000
END:DAYLIGHT
END:VTIMEZONE
BEGIN:VEVENT
UID:4285ef30-c297-4d87-a934-656db6ddd6dd
DTSTAMP:20260425T235923Z
DESCRIPTION:You are invited to a Zoom meeting.\nWhen: Aug 19\, 2021 10:00 A
 M Central Time (US and Canada)\nMeeting ID: 839 4581 4527\nRegister in adv
 ance for this meeting:\nhttps://us02web.zoom.us/meeting/register/tZckc-ygr
 z8vGNOUVb_pBZItJPoMUjoWySyh
DTSTART;TZID=America/Chicago:20210819T100000
DTEND;TZID=America/Chicago:20210819T103000
LOCATION:
SUMMARY:Is Everyone Ready for Fun? | Interactive Preschool Class
END:VEVENT
END:VCALENDAR
