BEGIN:VCALENDAR
VERSION:2.0
PRODID:-//midwestchildcare.org//NONSGML kigkonsult.se iCalcreator 2.30.10//
CALSCALE:GREGORIAN
METHOD:PUBLISH
UID:7cc5d74e-701e-4b1e-b321-ea5de7fc3b33
X-WR-CALDESC:You are invited to a Zoom meeting.\nWhen: Aug 19\, 2021 09:30 
 AM Central Time (US and Canada)\nMeeting ID: 889 9111 7913\nRegister in ad
 vance for this meeting:\nhttps://us02web.zoom.us/meeting/register/tZwkfuip
 rzwjG9daXbK_P50hiHeBeIta9j0C
X-WR-RELCALID:f40139e36835d19188cd911de6bf0ad3
X-WR-TIMEZONE:America/Chicago
BEGIN:VTIMEZONE
TZID:America/Chicago
BEGIN:STANDARD
TZNAME:CST
DTSTART:20201101T020000
TZOFFSETFROM:-0500
TZOFFSETTO:-0600
RDATE:20211107T020000
RDATE:20221106T020000
END:STANDARD
BEGIN:DAYLIGHT
TZNAME:CDT
DTSTART:20210314T020000
TZOFFSETFROM:-0600
TZOFFSETTO:-0500
RDATE:20220313T020000
END:DAYLIGHT
END:VTIMEZONE
BEGIN:VEVENT
UID:c5e17da7-557f-42ec-a130-1964dc457dcb
DTSTAMP:20260426T000207Z
DESCRIPTION:You are invited to a Zoom meeting.\nWhen: Aug 19\, 2021 09:30 A
 M Central Time (US and Canada)\nMeeting ID: 889 9111 7913\nRegister in adv
 ance for this meeting:\nhttps://us02web.zoom.us/meeting/register/tZwkfuipr
 zwjG9daXbK_P50hiHeBeIta9j0C
DTSTART;TZID=America/Chicago:20210819T093000
DTEND;TZID=America/Chicago:20210819T100000
LOCATION:
SUMMARY:Is Everyone Ready for Fun? | Interactive Preschool Class
END:VEVENT
END:VCALENDAR
