BEGIN:VCALENDAR
VERSION:2.0
PRODID:-//midwestchildcare.org//NONSGML kigkonsult.se iCalcreator 2.30.10//
CALSCALE:GREGORIAN
METHOD:PUBLISH
UID:1c82766e-02d6-4f81-982e-4cf8871fe54f
X-WR-CALDESC:You are invited to a Zoom meeting.\nWhen: Aug 19\, 2021 09:00 
 AM Central Time (US and Canada)\nMeeting ID: 859 1831 5990\nRegister in ad
 vance for this meeting:\nhttps://us02web.zoom.us/meeting/register/tZEkduGr
 rz4jE9QG64f81_hCsTvUuLd2Xrs-
X-WR-RELCALID:c410bb938e09c72fe44ccfb8b7883c03
X-WR-TIMEZONE:America/Chicago
BEGIN:VTIMEZONE
TZID:America/Chicago
BEGIN:STANDARD
TZNAME:CST
DTSTART:20201101T020000
TZOFFSETFROM:-0500
TZOFFSETTO:-0600
RDATE:20211107T020000
RDATE:20221106T020000
END:STANDARD
BEGIN:DAYLIGHT
TZNAME:CDT
DTSTART:20210314T020000
TZOFFSETFROM:-0600
TZOFFSETTO:-0500
RDATE:20220313T020000
END:DAYLIGHT
END:VTIMEZONE
BEGIN:VEVENT
UID:04e001e4-7c3b-4ce0-994f-0e5e13d69ce8
DTSTAMP:20260426T000145Z
DESCRIPTION:You are invited to a Zoom meeting.\nWhen: Aug 19\, 2021 09:00 A
 M Central Time (US and Canada)\nMeeting ID: 859 1831 5990\nRegister in adv
 ance for this meeting:\nhttps://us02web.zoom.us/meeting/register/tZEkduGrr
 z4jE9QG64f81_hCsTvUuLd2Xrs-
DTSTART;TZID=America/Chicago:20210819T090000
DTEND;TZID=America/Chicago:20210819T093000
LOCATION:
SUMMARY:Is Everyone Ready for Fun? | Interactive Preschool Class
END:VEVENT
END:VCALENDAR
