BEGIN:VCALENDAR
VERSION:2.0
PRODID:-//midwestchildcare.org//NONSGML kigkonsult.se iCalcreator 2.30.10//
CALSCALE:GREGORIAN
METHOD:PUBLISH
UID:b5e8d2c9-0c0a-4f60-befd-15e6796de82d
X-WR-CALDESC:Hormones/Antibiotics/Grass Fed...Understanding our food supply
 \n\nPlease register for Hormones/Antibiotics/Grass Fed...Understanding our
  food supply on Aug 5\, 2021 7:00 PM CDT at:\n\nhttps://attendee.gotowebin
 ar.com/register/5842688657786758669\n\nAfter registering\, you will receiv
 e a confirmation email containing information about joining the webinar.
X-WR-RELCALID:5af728266442f08ac5c3c21fb2762b5c
X-WR-TIMEZONE:America/Chicago
BEGIN:VTIMEZONE
TZID:America/Chicago
BEGIN:STANDARD
TZNAME:CST
DTSTART:20201101T020000
TZOFFSETFROM:-0500
TZOFFSETTO:-0600
RDATE:20211107T020000
RDATE:20221106T020000
END:STANDARD
BEGIN:DAYLIGHT
TZNAME:CDT
DTSTART:20210314T020000
TZOFFSETFROM:-0600
TZOFFSETTO:-0500
RDATE:20220313T020000
END:DAYLIGHT
END:VTIMEZONE
BEGIN:VEVENT
UID:0121a635-9f21-42e7-aa4b-5ecb5f754ab7
DTSTAMP:20260425T235906Z
DESCRIPTION:Hormones/Antibiotics/Grass Fed...Understanding our food supply
 \n\nPlease register for Hormones/Antibiotics/Grass Fed...Understanding our
  food supply on Aug 5\, 2021 7:00 PM CDT at:\n\nhttps://attendee.gotowebin
 ar.com/register/5842688657786758669\n\nAfter registering\, you will receiv
 e a confirmation email containing information about joining the webinar.
DTSTART;TZID=America/Chicago:20210805T190000
DTEND;TZID=America/Chicago:20210805T200000
LOCATION:
SUMMARY:Webinar: Hormones/Antibiotics/Grass Fed...Understanding our food su
 pply
END:VEVENT
END:VCALENDAR
