BEGIN:VCALENDAR
VERSION:2.0
PRODID:-//midwestchildcare.org//NONSGML kigkonsult.se iCalcreator 2.30.10//
CALSCALE:GREGORIAN
METHOD:PUBLISH
UID:1fc51bb5-cecd-4711-9d7c-887ee528569a
X-WR-CALDESC:BARK GEORGE | An Interactive Preschool Class\n\nYou are invite
 d to a Zoom meeting.\nWhen: Aug 5\, 2021 10:00 AM Central Time (US and Can
 ada)\n\nRegister in advance for this meeting:\nhttps://us02web.zoom.us/mee
 ting/register/tZMlde6gpjMiE9O5hH951ot4DZCsQGVigLxT\n\nAfter registering\, 
 you will receive a confirmation email containing information about joining
  the meeting.\n
X-WR-RELCALID:ad056033e49e1ef0430d2d71c86bb61a
X-WR-TIMEZONE:America/Chicago
BEGIN:VTIMEZONE
TZID:America/Chicago
BEGIN:STANDARD
TZNAME:CST
DTSTART:20201101T020000
TZOFFSETFROM:-0500
TZOFFSETTO:-0600
RDATE:20211107T020000
RDATE:20221106T020000
END:STANDARD
BEGIN:DAYLIGHT
TZNAME:CDT
DTSTART:20210314T020000
TZOFFSETFROM:-0600
TZOFFSETTO:-0500
RDATE:20220313T020000
END:DAYLIGHT
END:VTIMEZONE
BEGIN:VEVENT
UID:2aeb496c-e5f3-4272-b4d6-b5030437f527
DTSTAMP:20260426T000411Z
DESCRIPTION:BARK GEORGE | An Interactive Preschool Class\n\nYou are invited
  to a Zoom meeting.\nWhen: Aug 5\, 2021 10:00 AM Central Time (US and Cana
 da)\n\nRegister in advance for this meeting:\nhttps://us02web.zoom.us/meet
 ing/register/tZMlde6gpjMiE9O5hH951ot4DZCsQGVigLxT\n\nAfter registering\, y
 ou will receive a confirmation email containing information about joining 
 the meeting.\n
DTSTART;TZID=America/Chicago:20210805T100000
DTEND;TZID=America/Chicago:20210805T103000
LOCATION:
SUMMARY:BARK GEORGE | An Interactive Preschool Class
END:VEVENT
END:VCALENDAR
