BEGIN:VCALENDAR
VERSION:2.0
PRODID:-//midwestchildcare.org//NONSGML kigkonsult.se iCalcreator 2.30.10//
CALSCALE:GREGORIAN
METHOD:PUBLISH
UID:8d5ab467-1e92-4806-a995-b5099e8fec8a
X-WR-CALDESC:BARK GEORGE | An Interactive Preschool Class\n\nYou are invite
 d to a Zoom meeting.\nWhen: Aug 5\, 2021 09:00 AM Central Time (US and Can
 ada)\n\nRegister in advance for this meeting:\nhttps://us02web.zoom.us/mee
 ting/register/tZElc-2rrTosH9N8sVK-iVD9WSFabqf8XsmR\n\nAfter registering\, 
 you will receive a confirmation email containing information about joining
  the meeting.
X-WR-RELCALID:251161661f73c621ff49aeb10744b0bf
X-WR-TIMEZONE:America/Chicago
BEGIN:VTIMEZONE
TZID:America/Chicago
BEGIN:STANDARD
TZNAME:CST
DTSTART:20201101T020000
TZOFFSETFROM:-0500
TZOFFSETTO:-0600
RDATE:20211107T020000
RDATE:20221106T020000
END:STANDARD
BEGIN:DAYLIGHT
TZNAME:CDT
DTSTART:20210314T020000
TZOFFSETFROM:-0600
TZOFFSETTO:-0500
RDATE:20220313T020000
END:DAYLIGHT
END:VTIMEZONE
BEGIN:VEVENT
UID:bedf1bb6-a787-429f-9a54-df12ff1bfc8c
DTSTAMP:20260426T000600Z
DESCRIPTION:BARK GEORGE | An Interactive Preschool Class\n\nYou are invited
  to a Zoom meeting.\nWhen: Aug 5\, 2021 09:00 AM Central Time (US and Cana
 da)\n\nRegister in advance for this meeting:\nhttps://us02web.zoom.us/meet
 ing/register/tZElc-2rrTosH9N8sVK-iVD9WSFabqf8XsmR\n\nAfter registering\, y
 ou will receive a confirmation email containing information about joining 
 the meeting.
DTSTART;TZID=America/Chicago:20210805T093000
DTEND;TZID=America/Chicago:20210805T100000
LOCATION:
SUMMARY:BARK GEORGE | An Interactive Preschool Class
END:VEVENT
END:VCALENDAR
