BEGIN:VCALENDAR
VERSION:2.0
PRODID:-//midwestchildcare.org//NONSGML kigkonsult.se iCalcreator 2.30.10//
CALSCALE:GREGORIAN
METHOD:PUBLISH
UID:164f6d4f-468a-483d-9a3e-f0cff44af6ea
X-WR-CALDESC:You are invited to a Zoom meeting.\nWhen: Jul 22\, 2021 10:00 
 AM Central Time (US and Canada)\n\nRegister in advance for this meeting:\n
 https://us02web.zoom.us/meeting/register/tZcudeCgrTIqHdElbZyuSIpKeRwVHB4aZ
 Jbn\n\nAfter registering\, you will receive a confirmation email containin
 g information about joining the meeting.
X-WR-RELCALID:8448b5257526c5eab475d4b7cdcee83a
X-WR-TIMEZONE:America/Chicago
BEGIN:VTIMEZONE
TZID:America/Chicago
BEGIN:STANDARD
TZNAME:CST
DTSTART:20201101T020000
TZOFFSETFROM:-0500
TZOFFSETTO:-0600
RDATE:20211107T020000
RDATE:20221106T020000
END:STANDARD
BEGIN:DAYLIGHT
TZNAME:CDT
DTSTART:20210314T020000
TZOFFSETFROM:-0600
TZOFFSETTO:-0500
RDATE:20220313T020000
END:DAYLIGHT
END:VTIMEZONE
BEGIN:VEVENT
UID:6b8b4c4d-ad17-4252-b0c9-910af02d0b44
DTSTAMP:20260426T014723Z
DESCRIPTION:You are invited to a Zoom meeting.\nWhen: Jul 22\, 2021 10:00 A
 M Central Time (US and Canada)\n\nRegister in advance for this meeting:\nh
 ttps://us02web.zoom.us/meeting/register/tZcudeCgrTIqHdElbZyuSIpKeRwVHB4aZJ
 bn\n\nAfter registering\, you will receive a confirmation email containing
  information about joining the meeting.
DTSTART;TZID=America/Chicago:20210722T100000
DTEND;TZID=America/Chicago:20210722T103000
LOCATION:
SUMMARY:DREAM ON | An Interactive Preschool Class
END:VEVENT
END:VCALENDAR
