BEGIN:VCALENDAR
VERSION:2.0
PRODID:-//midwestchildcare.org//NONSGML kigkonsult.se iCalcreator 2.30.10//
CALSCALE:GREGORIAN
METHOD:PUBLISH
UID:f3c03a14-b7a8-4ea9-b7b4-a504e045fce8
X-WR-CALDESC:You are invited to a Zoom meeting.\nWhen: Jul 22\, 2021 09:30 
 AM Central Time (US and Canada)\nRegister in advance for this meeting:\nht
 tps://us02web.zoom.us/meeting/register/tZIud-qorD8rH9dQiiQKkObYBZdPopSSkEy
 6\n\nAfter registering\, you will receive a confirmation email containing 
 information about joining the meeting.
X-WR-RELCALID:14ee20e177daa1373ea3e30473fc08bb
X-WR-TIMEZONE:America/Chicago
BEGIN:VTIMEZONE
TZID:America/Chicago
BEGIN:STANDARD
TZNAME:CST
DTSTART:20201101T020000
TZOFFSETFROM:-0500
TZOFFSETTO:-0600
RDATE:20211107T020000
RDATE:20221106T020000
END:STANDARD
BEGIN:DAYLIGHT
TZNAME:CDT
DTSTART:20210314T020000
TZOFFSETFROM:-0600
TZOFFSETTO:-0500
RDATE:20220313T020000
END:DAYLIGHT
END:VTIMEZONE
BEGIN:VEVENT
UID:f7fe434b-cd31-4f22-be44-bcba031f37d8
DTSTAMP:20260426T014116Z
DESCRIPTION:You are invited to a Zoom meeting.\nWhen: Jul 22\, 2021 09:30 A
 M Central Time (US and Canada)\nRegister in advance for this meeting:\nhtt
 ps://us02web.zoom.us/meeting/register/tZIud-qorD8rH9dQiiQKkObYBZdPopSSkEy6
 \n\nAfter registering\, you will receive a confirmation email containing i
 nformation about joining the meeting.
DTSTART;TZID=America/Chicago:20210722T093000
DTEND;TZID=America/Chicago:20210722T100000
LOCATION:
SUMMARY:DREAM ON | An Interactive Preschool Class
END:VEVENT
END:VCALENDAR
