BEGIN:VCALENDAR
VERSION:2.0
PRODID:-//midwestchildcare.org//NONSGML kigkonsult.se iCalcreator 2.30.10//
CALSCALE:GREGORIAN
METHOD:PUBLISH
UID:6082e7cb-f870-4e36-8537-cefddf9d2a10
X-WR-CALDESC:You are invited to a Zoom meeting.\nWhen: Jul 22\, 2021 09:00 
 AM Central Time (US and Canada)\n\nRegister in advance for this meeting:\n
 https://us02web.zoom.us/meeting/register/tZEsc-ytrjsoGdQGEk65AGhsespOJkAmT
 pGk\n\nAfter registering\, you will receive a confirmation email containin
 g information about joining the meeting.
X-WR-RELCALID:d4616555167185b4a792c80662c3e1b5
X-WR-TIMEZONE:America/Chicago
BEGIN:VTIMEZONE
TZID:America/Chicago
BEGIN:STANDARD
TZNAME:CST
DTSTART:20201101T020000
TZOFFSETFROM:-0500
TZOFFSETTO:-0600
RDATE:20211107T020000
RDATE:20221106T020000
END:STANDARD
BEGIN:DAYLIGHT
TZNAME:CDT
DTSTART:20210314T020000
TZOFFSETFROM:-0600
TZOFFSETTO:-0500
RDATE:20220313T020000
END:DAYLIGHT
END:VTIMEZONE
BEGIN:VEVENT
UID:2af3c514-fbda-4d13-979b-ea12489f9182
DTSTAMP:20260426T014750Z
DESCRIPTION:You are invited to a Zoom meeting.\nWhen: Jul 22\, 2021 09:00 A
 M Central Time (US and Canada)\n\nRegister in advance for this meeting:\nh
 ttps://us02web.zoom.us/meeting/register/tZEsc-ytrjsoGdQGEk65AGhsespOJkAmTp
 Gk\n\nAfter registering\, you will receive a confirmation email containing
  information about joining the meeting.
DTSTART;TZID=America/Chicago:20210722T090000
DTEND;TZID=America/Chicago:20210722T093000
LOCATION:
SUMMARY:DREAM ON | An Interactive Preschool Class
END:VEVENT
END:VCALENDAR
