BEGIN:VCALENDAR
VERSION:2.0
PRODID:-//midwestchildcare.org//NONSGML kigkonsult.se iCalcreator 2.30.10//
CALSCALE:GREGORIAN
METHOD:PUBLISH
UID:e042c201-dc7d-4c56-b639-6b33ab03d5da
X-WR-CALDESC:Webinar: Heat\, Hydration and Children's Health\n\nPlease regi
 ster for Heat\, Hydration and Children's Health on Jul 19\, 2021 1:00 PM C
 DT at:\nhttps://attendee.gotowebinar.com/register/4106877556262575116\n\nA
 fter registering\, you will receive a confirmation email containing inform
 ation about joining the webinar.
X-WR-RELCALID:385d24f54bb9b0bf37a54e07822b2bc8
X-WR-TIMEZONE:America/Chicago
BEGIN:VTIMEZONE
TZID:America/Chicago
BEGIN:STANDARD
TZNAME:CST
DTSTART:20201101T020000
TZOFFSETFROM:-0500
TZOFFSETTO:-0600
RDATE:20211107T020000
RDATE:20221106T020000
END:STANDARD
BEGIN:DAYLIGHT
TZNAME:CDT
DTSTART:20210314T020000
TZOFFSETFROM:-0600
TZOFFSETTO:-0500
RDATE:20220313T020000
END:DAYLIGHT
END:VTIMEZONE
BEGIN:VEVENT
UID:d4ab8879-9f0c-4e5f-8637-f0015497f424
DTSTAMP:20260426T015759Z
DESCRIPTION:Webinar: Heat\, Hydration and Children's Health\n\nPlease regis
 ter for Heat\, Hydration and Children's Health on Jul 19\, 2021 1:00 PM CD
 T at:\nhttps://attendee.gotowebinar.com/register/4106877556262575116\n\nAf
 ter registering\, you will receive a confirmation email containing informa
 tion about joining the webinar.
DTSTART;TZID=America/Chicago:20210719T190000
DTEND;TZID=America/Chicago:20210719T200000
LOCATION:
SUMMARY:Webinar: Heat\, Hydration and Children's Health
END:VEVENT
END:VCALENDAR
