BEGIN:VCALENDAR
VERSION:2.0
PRODID:-//midwestchildcare.org//NONSGML kigkonsult.se iCalcreator 2.30.10//
CALSCALE:GREGORIAN
METHOD:PUBLISH
UID:04a6e154-7bf2-4a77-9457-1e8aecc04abe
X-WR-CALDESC:You are invited to a Zoom meeting. WILD ONE\nWhen: Jul 15\, 20
 21 09:30 AM Central Time (US and Canada)\nRegister in advance for this mee
 ting:\nhttps://us02web.zoom.us/meeting/register/tZ0ufuqurToqH9R90BIdTqPuPb
 nDyKu-eszY\n\nAfter registering\, you will receive a confirmation email co
 ntaining information about joining the meeting.
X-WR-RELCALID:599ee29a9857c7e731ff6461495947bb
X-WR-TIMEZONE:America/Chicago
BEGIN:VTIMEZONE
TZID:America/Chicago
BEGIN:STANDARD
TZNAME:CST
DTSTART:20201101T020000
TZOFFSETFROM:-0500
TZOFFSETTO:-0600
RDATE:20211107T020000
RDATE:20221106T020000
END:STANDARD
BEGIN:DAYLIGHT
TZNAME:CDT
DTSTART:20210314T020000
TZOFFSETFROM:-0600
TZOFFSETTO:-0500
RDATE:20220313T020000
END:DAYLIGHT
END:VTIMEZONE
BEGIN:VEVENT
UID:1f067c9c-6815-4d36-be4e-d82285152a0f
DTSTAMP:20260426T014750Z
DESCRIPTION:You are invited to a Zoom meeting. WILD ONE\nWhen: Jul 15\, 202
 1 09:30 AM Central Time (US and Canada)\nRegister in advance for this meet
 ing:\nhttps://us02web.zoom.us/meeting/register/tZ0ufuqurToqH9R90BIdTqPuPbn
 DyKu-eszY\n\nAfter registering\, you will receive a confirmation email con
 taining information about joining the meeting.
DTSTART;TZID=America/Chicago:20210715T093000
DTEND;TZID=America/Chicago:20210715T100000
LOCATION:
SUMMARY:WILD ONE | Preschool Class
END:VEVENT
END:VCALENDAR
