BEGIN:VCALENDAR
VERSION:2.0
PRODID:-//midwestchildcare.org//NONSGML kigkonsult.se iCalcreator 2.30.10//
CALSCALE:GREGORIAN
METHOD:PUBLISH
UID:26b9d802-4c44-4559-a43c-91f7457002a0
X-WR-CALDESC:You are invited to a Zoom meeting.\nWhen: Jul 15\, 2021 10:00 
 AM Central Time (US and Canada)\nRegister in advance for this meeting:\nht
 tps://us02web.zoom.us/meeting/register/tZAlcO-qpjwqGNa3Hj6zzEfwxYRp23Q1eJs
 G\n\nAfter registering\, you will receive a confirmation email containing 
 information about joining the meeting.
X-WR-RELCALID:c994a2c71b568dfc8728331c4369c6a1
X-WR-TIMEZONE:America/Chicago
BEGIN:VTIMEZONE
TZID:America/Chicago
BEGIN:STANDARD
TZNAME:CST
DTSTART:20201101T020000
TZOFFSETFROM:-0500
TZOFFSETTO:-0600
RDATE:20211107T020000
RDATE:20221106T020000
END:STANDARD
BEGIN:DAYLIGHT
TZNAME:CDT
DTSTART:20210314T020000
TZOFFSETFROM:-0600
TZOFFSETTO:-0500
RDATE:20220313T020000
END:DAYLIGHT
END:VTIMEZONE
BEGIN:VEVENT
UID:97dae0b0-e04e-4671-ae3f-d2a066978fc0
DTSTAMP:20260426T014212Z
DESCRIPTION:You are invited to a Zoom meeting.\nWhen: Jul 15\, 2021 10:00 A
 M Central Time (US and Canada)\nRegister in advance for this meeting:\nhtt
 ps://us02web.zoom.us/meeting/register/tZAlcO-qpjwqGNa3Hj6zzEfwxYRp23Q1eJsG
 \n\nAfter registering\, you will receive a confirmation email containing i
 nformation about joining the meeting.
DTSTART;TZID=America/Chicago:20210715T100000
DTEND;TZID=America/Chicago:20210715T103000
LOCATION:
SUMMARY:WILD ONE | Preschool Class
END:VEVENT
END:VCALENDAR
