BEGIN:VCALENDAR
VERSION:2.0
PRODID:-//midwestchildcare.org//NONSGML kigkonsult.se iCalcreator 2.30.10//
CALSCALE:GREGORIAN
METHOD:PUBLISH
UID:55429a0f-b37d-4d75-97b8-a714c0b5448a
X-WR-CALDESC:You are invited to a Zoom meeting. WILD ONE\nWhen: Jul 15\, 20
 21 09:00 AM Central Time (US and Canada)\nRegister in advance for this mee
 ting:\nhttps://us02web.zoom.us/meeting/register/tZckdO6uqTkoGtNLBlQuOS5EVJ
 -q0WkqTc3O\n\nAfter registering\, you will receive a confirmation email co
 ntaining information about joining the meeting.
X-WR-RELCALID:4c4fb267e611bfbf269ad5b458c8f6d4
X-WR-TIMEZONE:America/Chicago
BEGIN:VTIMEZONE
TZID:America/Chicago
BEGIN:STANDARD
TZNAME:CST
DTSTART:20201101T020000
TZOFFSETFROM:-0500
TZOFFSETTO:-0600
RDATE:20211107T020000
RDATE:20221106T020000
END:STANDARD
BEGIN:DAYLIGHT
TZNAME:CDT
DTSTART:20210314T020000
TZOFFSETFROM:-0600
TZOFFSETTO:-0500
RDATE:20220313T020000
END:DAYLIGHT
END:VTIMEZONE
BEGIN:VEVENT
UID:f8209358-13fc-461a-9e9d-1dc41ac28dd3
DTSTAMP:20260426T014137Z
DESCRIPTION:You are invited to a Zoom meeting. WILD ONE\nWhen: Jul 15\, 202
 1 09:00 AM Central Time (US and Canada)\nRegister in advance for this meet
 ing:\nhttps://us02web.zoom.us/meeting/register/tZckdO6uqTkoGtNLBlQuOS5EVJ-
 q0WkqTc3O\n\nAfter registering\, you will receive a confirmation email con
 taining information about joining the meeting.
DTSTART;TZID=America/Chicago:20210715T090000
DTEND;TZID=America/Chicago:20210715T093000
LOCATION:
SUMMARY:WILD ONE | Preschool Class
END:VEVENT
END:VCALENDAR
