BEGIN:VCALENDAR
VERSION:2.0
PRODID:-//midwestchildcare.org//NONSGML kigkonsult.se iCalcreator 2.30.10//
CALSCALE:GREGORIAN
METHOD:PUBLISH
UID:3c942965-b651-429d-98f6-60f13968e51c
X-WR-CALDESC:Webinar: Nutrition and Brain Development\n\nPlease register fo
 r Nutrition and Brain Development on Jul 15\, 2021 7:00 PM CDT at:\nhttps:
 //attendee.gotowebinar.com/register/5610471801874099980\n\nAfter registeri
 ng\, you will receive a confirmation email containing information about jo
 ining the webinar.
X-WR-RELCALID:c268c4c5403cd7156fd3fecdf91b913b
X-WR-TIMEZONE:America/Chicago
BEGIN:VTIMEZONE
TZID:America/Chicago
BEGIN:STANDARD
TZNAME:CST
DTSTART:20201101T020000
TZOFFSETFROM:-0500
TZOFFSETTO:-0600
RDATE:20211107T020000
RDATE:20221106T020000
END:STANDARD
BEGIN:DAYLIGHT
TZNAME:CDT
DTSTART:20210314T020000
TZOFFSETFROM:-0600
TZOFFSETTO:-0500
RDATE:20220313T020000
END:DAYLIGHT
END:VTIMEZONE
BEGIN:VEVENT
UID:294b71a0-9202-4083-ac5a-32f0ea2e0bd2
DTSTAMP:20260426T012749Z
DESCRIPTION:Webinar: Nutrition and Brain Development\n\nPlease register for
  Nutrition and Brain Development on Jul 15\, 2021 7:00 PM CDT at:\nhttps:/
 /attendee.gotowebinar.com/register/5610471801874099980\n\nAfter registerin
 g\, you will receive a confirmation email containing information about joi
 ning the webinar.
DTSTART;TZID=America/Chicago:20210715T190000
DTEND;TZID=America/Chicago:20210715T200000
LOCATION:
SUMMARY:Webinar: Nutrition and Brain Development
END:VEVENT
END:VCALENDAR
