BEGIN:VCALENDAR
VERSION:2.0
PRODID:-//midwestchildcare.org//NONSGML kigkonsult.se iCalcreator 2.30.10//
CALSCALE:GREGORIAN
METHOD:PUBLISH
UID:e17458c3-a671-4f53-a19a-2d084f3c558d
X-WR-CALDESC:Webinar: Farming Basics Curriculum ideas for your center\n\nPl
 ease register for Farming Basics Curriculum ideas for your center on Jul 6
 \, 2021 7:00 PM CDT at:\nhttps://attendee.gotowebinar.com/register/5062907
 314146933006\n\nAfter registering\, you will receive a confirmation email 
 containing information about joining the webinar.
X-WR-RELCALID:3522864fc8f8e18fecf7e1c7daa0ebfc
X-WR-TIMEZONE:America/Chicago
BEGIN:VTIMEZONE
TZID:America/Chicago
BEGIN:STANDARD
TZNAME:CST
DTSTART:20201101T020000
TZOFFSETFROM:-0500
TZOFFSETTO:-0600
RDATE:20211107T020000
RDATE:20221106T020000
END:STANDARD
BEGIN:DAYLIGHT
TZNAME:CDT
DTSTART:20210314T020000
TZOFFSETFROM:-0600
TZOFFSETTO:-0500
RDATE:20220313T020000
END:DAYLIGHT
END:VTIMEZONE
BEGIN:VEVENT
UID:4f38093e-beaf-4816-afb4-f822b33a04c3
DTSTAMP:20260426T014909Z
DESCRIPTION:Webinar: Farming Basics Curriculum ideas for your center\n\nPle
 ase register for Farming Basics Curriculum ideas for your center on Jul 6\
 , 2021 7:00 PM CDT at:\nhttps://attendee.gotowebinar.com/register/50629073
 14146933006\n\nAfter registering\, you will receive a confirmation email c
 ontaining information about joining the webinar.
DTSTART;TZID=America/Chicago:20210706T190000
DTEND;TZID=America/Chicago:20210706T200000
LOCATION:
SUMMARY:Webinar: Farming Basics Curriculum ideas for your center
END:VEVENT
END:VCALENDAR
