BEGIN:VCALENDAR
VERSION:2.0
PRODID:-//midwestchildcare.org//NONSGML kigkonsult.se iCalcreator 2.30.10//
CALSCALE:GREGORIAN
METHOD:PUBLISH
UID:71ef3d25-fc11-4d10-a78d-0b09e9e36c9d
X-WR-CALDESC:Webinar: Teaching kids about Farming Practices\n\nPlease regis
 ter for Teaching kids about Farming Practices on Jun 29\, 2021 7:00 PM CDT
  at:\nhttps://attendee.gotowebinar.com/register/83576493228446222\n\nAfter
  registering\, you will receive a confirmation email containing informatio
 n about joining the webinar.
X-WR-RELCALID:de102cfeebefa01b19c9618529b7ec77
X-WR-TIMEZONE:America/Chicago
BEGIN:VTIMEZONE
TZID:America/Chicago
BEGIN:STANDARD
TZNAME:CST
DTSTART:20201101T020000
TZOFFSETFROM:-0500
TZOFFSETTO:-0600
RDATE:20211107T020000
RDATE:20221106T020000
END:STANDARD
BEGIN:DAYLIGHT
TZNAME:CDT
DTSTART:20210314T020000
TZOFFSETFROM:-0600
TZOFFSETTO:-0500
RDATE:20220313T020000
END:DAYLIGHT
END:VTIMEZONE
BEGIN:VEVENT
UID:2b5ebff4-03b7-4832-a270-f7734646fd53
DTSTAMP:20260426T032850Z
DESCRIPTION:Webinar: Teaching kids about Farming Practices\n\nPlease regist
 er for Teaching kids about Farming Practices on Jun 29\, 2021 7:00 PM CDT 
 at:\nhttps://attendee.gotowebinar.com/register/83576493228446222\n\nAfter 
 registering\, you will receive a confirmation email containing information
  about joining the webinar.
DTSTART;TZID=America/Chicago:20210629T130000
DTEND;TZID=America/Chicago:20210629T140000
LOCATION:
SUMMARY:Webinar: Teaching kids about Farming Practices
END:VEVENT
END:VCALENDAR
