BEGIN:VCALENDAR
VERSION:2.0
PRODID:-//midwestchildcare.org//NONSGML kigkonsult.se iCalcreator 2.30.10//
CALSCALE:GREGORIAN
METHOD:PUBLISH
UID:35718869-353d-46f5-9928-1f442d0f4ac9
X-WR-CALDESC:Pizza Day and Interactive Preschool Class\n\nYou are invited t
 o a Zoom meeting. \nWhen: Jun 24\, 2021 10:00 AM Central Time (US and Cana
 da) \n\nRegister in advance for this meeting:\nhttps://us02web.zoom.us/mee
 ting/register/tZAkduGtqj8sHtxxCfLYelSAmtyamPvkCoY9 \n\nAfter registering\,
  you will receive a confirmation email containing information about joinin
 g the meeting.
X-WR-RELCALID:bdbb12d9dc7da1eb67476aff9f35eda5
X-WR-TIMEZONE:America/Chicago
BEGIN:VTIMEZONE
TZID:America/Chicago
BEGIN:STANDARD
TZNAME:CST
DTSTART:20201101T020000
TZOFFSETFROM:-0500
TZOFFSETTO:-0600
RDATE:20211107T020000
RDATE:20221106T020000
END:STANDARD
BEGIN:DAYLIGHT
TZNAME:CDT
DTSTART:20210314T020000
TZOFFSETFROM:-0600
TZOFFSETTO:-0500
RDATE:20220313T020000
END:DAYLIGHT
END:VTIMEZONE
BEGIN:VEVENT
UID:416f78bf-2332-4152-8b47-82547864c0b8
DTSTAMP:20260426T042010Z
DESCRIPTION:Pizza Day and Interactive Preschool Class\n\nYou are invited to
  a Zoom meeting. \nWhen: Jun 24\, 2021 10:00 AM Central Time (US and Canad
 a) \n\nRegister in advance for this meeting:\nhttps://us02web.zoom.us/meet
 ing/register/tZAkduGtqj8sHtxxCfLYelSAmtyamPvkCoY9 \n\nAfter registering\, 
 you will receive a confirmation email containing information about joining
  the meeting.
DTSTART;TZID=America/Chicago:20210624T100000
DTEND;TZID=America/Chicago:20210624T110000
LOCATION:
SUMMARY:Webinar: Pizza Day and Interactive Preschool Class
END:VEVENT
END:VCALENDAR
