BEGIN:VCALENDAR
VERSION:2.0
PRODID:-//midwestchildcare.org//NONSGML kigkonsult.se iCalcreator 2.30.10//
CALSCALE:GREGORIAN
METHOD:PUBLISH
UID:42eb8eb0-9ae7-489c-8f50-6eb943143703
X-WR-CALDESC:Pizza Day and Interactive Preschool Class\n\nYou are invited t
 o a Zoom meeting. \nWhen: Jun 24\, 2021 09:30 AM Central Time (US and Cana
 da) \n\nRegister in advance for this meeting:\nhttps://us02web.zoom.us/mee
 ting/register/tZElduytrTsrHt27TNRiB05XvJLjanVpAScv \n\nAfter registering\,
  you will receive a confirmation email containing information about joinin
 g the meeting.
X-WR-RELCALID:15264751a00eb93efe1aff15874af38f
X-WR-TIMEZONE:America/Chicago
BEGIN:VTIMEZONE
TZID:America/Chicago
BEGIN:STANDARD
TZNAME:CST
DTSTART:20201101T020000
TZOFFSETFROM:-0500
TZOFFSETTO:-0600
RDATE:20211107T020000
RDATE:20221106T020000
END:STANDARD
BEGIN:DAYLIGHT
TZNAME:CDT
DTSTART:20210314T020000
TZOFFSETFROM:-0600
TZOFFSETTO:-0500
RDATE:20220313T020000
END:DAYLIGHT
END:VTIMEZONE
BEGIN:VEVENT
UID:66db2f3c-0529-4484-a5ac-28237dfa0899
DTSTAMP:20260426T032850Z
DESCRIPTION:Pizza Day and Interactive Preschool Class\n\nYou are invited to
  a Zoom meeting. \nWhen: Jun 24\, 2021 09:30 AM Central Time (US and Canad
 a) \n\nRegister in advance for this meeting:\nhttps://us02web.zoom.us/meet
 ing/register/tZElduytrTsrHt27TNRiB05XvJLjanVpAScv \n\nAfter registering\, 
 you will receive a confirmation email containing information about joining
  the meeting.
DTSTART;TZID=America/Chicago:20210624T093000
DTEND;TZID=America/Chicago:20210624T103000
LOCATION:
SUMMARY:Webinar: Pizza Day and Interactive Preschool Class
END:VEVENT
END:VCALENDAR
