BEGIN:VCALENDAR
VERSION:2.0
PRODID:-//midwestchildcare.org//NONSGML kigkonsult.se iCalcreator 2.30.10//
CALSCALE:GREGORIAN
METHOD:PUBLISH
UID:79915343-3a6e-429e-8085-cf16c4c9e46a
X-WR-CALDESC:Pizza Day and Interactive Preschool Class\n\nYou are invited t
 o a Zoom meeting.\nWhen: Jun 24\, 2021 09:00 AM Central Time (US and Canad
 a)\n\nRegister in advance for this meeting:\nhttps://us02web.zoom.us/meeti
 ng/register/tZIodOmvpz8sG9xUvc3RZiZy1plUOba3GA-c \n\nAfter registering\, y
 ou will receive a confirmation email containing information about joining 
 the meeting.
X-WR-RELCALID:3cf58d2492ad2259d7608cd46121e2ce
X-WR-TIMEZONE:America/Chicago
BEGIN:VTIMEZONE
TZID:America/Chicago
BEGIN:STANDARD
TZNAME:CST
DTSTART:20201101T020000
TZOFFSETFROM:-0500
TZOFFSETTO:-0600
RDATE:20211107T020000
RDATE:20221106T020000
END:STANDARD
BEGIN:DAYLIGHT
TZNAME:CDT
DTSTART:20210314T020000
TZOFFSETFROM:-0600
TZOFFSETTO:-0500
RDATE:20220313T020000
END:DAYLIGHT
END:VTIMEZONE
BEGIN:VEVENT
UID:91a836dd-9768-491d-b8ec-00428b8191a0
DTSTAMP:20260426T032755Z
DESCRIPTION:Pizza Day and Interactive Preschool Class\n\nYou are invited to
  a Zoom meeting.\nWhen: Jun 24\, 2021 09:00 AM Central Time (US and Canada
 )\n\nRegister in advance for this meeting:\nhttps://us02web.zoom.us/meetin
 g/register/tZIodOmvpz8sG9xUvc3RZiZy1plUOba3GA-c \n\nAfter registering\, yo
 u will receive a confirmation email containing information about joining t
 he meeting.
DTSTART;TZID=America/Chicago:20210624T090000
DTEND;TZID=America/Chicago:20210624T100000
LOCATION:
SUMMARY:Webinar: Pizza Day and Interactive Preschool Class
END:VEVENT
END:VCALENDAR
