BEGIN:VCALENDAR
VERSION:2.0
PRODID:-//midwestchildcare.org//NONSGML kigkonsult.se iCalcreator 2.30.10//
CALSCALE:GREGORIAN
METHOD:PUBLISH
UID:f68d1770-7b9d-47de-926e-d2cf10f0e9c3
X-WR-CALDESC:Webinar: What are Genetically Modified Organisms (GMO's)?\n\nP
 lease register for What are Genetically Modified Organisms (GMO's)? on Jun
  22\, 2021 7:00 PM CDT at:\nhttps://attendee.gotowebinar.com/register/6756
 487273194735375\n\nAfter registering\, you will receive a confirmation ema
 il containing information about joining the webinar.
X-WR-RELCALID:bf7e0fb6f5092c84373b33525bac5b45
X-WR-TIMEZONE:America/Chicago
BEGIN:VTIMEZONE
TZID:America/Chicago
BEGIN:STANDARD
TZNAME:CST
DTSTART:20201101T020000
TZOFFSETFROM:-0500
TZOFFSETTO:-0600
RDATE:20211107T020000
RDATE:20221106T020000
END:STANDARD
BEGIN:DAYLIGHT
TZNAME:CDT
DTSTART:20210314T020000
TZOFFSETFROM:-0600
TZOFFSETTO:-0500
RDATE:20220313T020000
END:DAYLIGHT
END:VTIMEZONE
BEGIN:VEVENT
UID:9e30ca85-79ff-41e9-8cd2-59e71278fb61
DTSTAMP:20260426T032720Z
DESCRIPTION:Webinar: What are Genetically Modified Organisms (GMO's)?\n\nPl
 ease register for What are Genetically Modified Organisms (GMO's)? on Jun 
 22\, 2021 7:00 PM CDT at:\nhttps://attendee.gotowebinar.com/register/67564
 87273194735375\n\nAfter registering\, you will receive a confirmation emai
 l containing information about joining the webinar.
DTSTART;TZID=America/Chicago:20210622T130000
DTEND;TZID=America/Chicago:20210622T140000
LOCATION:
SUMMARY:Webinar: What are Genetically Modified Organisms (GMO's)?
END:VEVENT
END:VCALENDAR
