BEGIN:VCALENDAR
VERSION:2.0
PRODID:-//midwestchildcare.org//NONSGML kigkonsult.se iCalcreator 2.30.10//
CALSCALE:GREGORIAN
METHOD:PUBLISH
UID:74acf83c-4a22-4930-9436-6b0273f8c77b
X-WR-CALDESC:Webinar: Obesity Prevention in Children\n\nPlease register for
  Obesity Prevention in Children on Jun 17\, 2021 7:00 PM CDT at:\nhttps://
 attendee.gotowebinar.com/register/4551714671254957325\n\nAfter registering
 \, you will receive a confirmation email containing information about join
 ing the webinar.
X-WR-RELCALID:a4de6674d8f7f84b830802d91a5e5f2c
X-WR-TIMEZONE:America/Chicago
BEGIN:VTIMEZONE
TZID:America/Chicago
BEGIN:STANDARD
TZNAME:CST
DTSTART:20201101T020000
TZOFFSETFROM:-0500
TZOFFSETTO:-0600
RDATE:20211107T020000
RDATE:20221106T020000
END:STANDARD
BEGIN:DAYLIGHT
TZNAME:CDT
DTSTART:20210314T020000
TZOFFSETFROM:-0600
TZOFFSETTO:-0500
RDATE:20220313T020000
END:DAYLIGHT
END:VTIMEZONE
BEGIN:VEVENT
UID:69a981b7-a6d2-49e1-ab0c-037a4b1f039a
DTSTAMP:20260426T034052Z
DESCRIPTION:Webinar: Obesity Prevention in Children\n\nPlease register for 
 Obesity Prevention in Children on Jun 17\, 2021 7:00 PM CDT at:\nhttps://a
 ttendee.gotowebinar.com/register/4551714671254957325\n\nAfter registering\
 , you will receive a confirmation email containing information about joini
 ng the webinar.
DTSTART;TZID=America/Chicago:20210617T190000
DTEND;TZID=America/Chicago:20210617T200000
LOCATION:
SUMMARY:Webinar: Obesity Prevention in Children
END:VEVENT
END:VCALENDAR
