BEGIN:VCALENDAR
VERSION:2.0
PRODID:-//midwestchildcare.org//NONSGML kigkonsult.se iCalcreator 2.30.10//
CALSCALE:GREGORIAN
METHOD:PUBLISH
UID:86e93f7d-3a5f-4d14-86ba-a29b92b61d65
X-WR-CALDESC:Dandy the Dandelion | Webinar | Interactive Preschool Class Fi
 ve\n\nEarn 0.4 licensing hours. The classes are designed and led by a lice
 nsed K-6 teacher and school librarian and Register Dietitian. A detailed l
 esson plan is provided to participants to use during the class and as a re
 source for future use. \n\nYou are invited to a Zoom meeting. \nWhen: Jun 
 10\, 2021 09:30 AM Central Time (US and Canada) \n\nRegister in advance fo
 r this meeting:\nhttps://us02web.zoom.us/meeting/register/tZ0rceGqqzMuEtW-
 HA0jyv-HDlNUIXQIOgGD \n\nAfter registering\, you will receive a confirmati
 on email containing information about joining the meeting.
X-WR-RELCALID:3ff8d9d1d7e76b9ec3424ebd0e07247b
X-WR-TIMEZONE:America/Chicago
BEGIN:VTIMEZONE
TZID:America/Chicago
BEGIN:STANDARD
TZNAME:CST
DTSTART:20201101T020000
TZOFFSETFROM:-0500
TZOFFSETTO:-0600
RDATE:20211107T020000
RDATE:20221106T020000
END:STANDARD
BEGIN:DAYLIGHT
TZNAME:CDT
DTSTART:20210314T020000
TZOFFSETFROM:-0600
TZOFFSETTO:-0500
RDATE:20220313T020000
END:DAYLIGHT
END:VTIMEZONE
BEGIN:VEVENT
UID:f63966a3-0d1a-4155-aa44-dd6e09d12a48
DTSTAMP:20260426T032450Z
DESCRIPTION:Dandy the Dandelion | Webinar | Interactive Preschool Class Fiv
 e\n\nEarn 0.4 licensing hours. The classes are designed and led by a licen
 sed K-6 teacher and school librarian and Register Dietitian. A detailed le
 sson plan is provided to participants to use during the class and as a res
 ource for future use. \n\nYou are invited to a Zoom meeting. \nWhen: Jun 1
 0\, 2021 09:30 AM Central Time (US and Canada) \n\nRegister in advance for
  this meeting:\nhttps://us02web.zoom.us/meeting/register/tZ0rceGqqzMuEtW-H
 A0jyv-HDlNUIXQIOgGD \n\nAfter registering\, you will receive a confirmatio
 n email containing information about joining the meeting.
DTSTART;TZID=America/Chicago:20210610T093000
DTEND;TZID=America/Chicago:20210610T100000
LOCATION:
SUMMARY:Dandy the Dandelion | Webinar | Interactive Preschool Class Five
END:VEVENT
END:VCALENDAR
