BEGIN:VCALENDAR
VERSION:2.0
PRODID:-//midwestchildcare.org//NONSGML kigkonsult.se iCalcreator 2.30.10//
CALSCALE:GREGORIAN
METHOD:PUBLISH
UID:c5f5866c-3f41-4157-abb6-bff8df5c356c
X-WR-CALDESC:Webinar: Breakfast and Snack Ideas to Keep Kids Healthy\n\nPle
 ase register for Breakfast and Snack Ideas to Keep Kids Healthy on Jun 8\,
  2021 7:00 PM CDT at:\nhttps://attendee.gotowebinar.com/register/112734288
 0947253518\n\nAfter registering\, you will receive a confirmation email co
 ntaining information about joining the webinar.
X-WR-RELCALID:122068a1262dfbacb4f1e98ea0bc9e06
X-WR-TIMEZONE:America/Chicago
BEGIN:VTIMEZONE
TZID:America/Chicago
BEGIN:STANDARD
TZNAME:CST
DTSTART:20201101T020000
TZOFFSETFROM:-0500
TZOFFSETTO:-0600
RDATE:20211107T020000
RDATE:20221106T020000
END:STANDARD
BEGIN:DAYLIGHT
TZNAME:CDT
DTSTART:20210314T020000
TZOFFSETFROM:-0600
TZOFFSETTO:-0500
RDATE:20220313T020000
END:DAYLIGHT
END:VTIMEZONE
BEGIN:VEVENT
UID:37c1971e-d37b-40c4-a49a-f209c1a09ee4
DTSTAMP:20260426T033035Z
DESCRIPTION:Webinar: Breakfast and Snack Ideas to Keep Kids Healthy\n\nPlea
 se register for Breakfast and Snack Ideas to Keep Kids Healthy on Jun 8\, 
 2021 7:00 PM CDT at:\nhttps://attendee.gotowebinar.com/register/1127342880
 947253518\n\nAfter registering\, you will receive a confirmation email con
 taining information about joining the webinar.
DTSTART;TZID=America/Chicago:20210608T190000
DTEND;TZID=America/Chicago:20210608T200000
LOCATION:
SUMMARY:Webinar: Breakfast and Snack Ideas to Keep Kids Healthy
END:VEVENT
END:VCALENDAR
