BEGIN:VCALENDAR
VERSION:2.0
PRODID:-//midwestchildcare.org//NONSGML kigkonsult.se iCalcreator 2.30.10//
CALSCALE:GREGORIAN
METHOD:PUBLISH
UID:fb84ea19-e9df-4a72-b77b-3ffe972b2d79
X-WR-CALDESC:Move Your Mood | Webinar | Interactive Preschool Class Four\n
 \nEarn 0.4 licensing hours. The classes are designed and led by a licensed
  K-6 teacher and school librarian and Register Dietitian. A detailed lesso
 n plan is provided to participants to use during the class and as a resour
 ce for future use. \n\nYou are invited to a Zoom meeting. \nWhen: Jun 3\, 
 2021 10:00 AM Central Time (US and Canada) \n\nRegister in advance for thi
 s meeting:\nhttps://us02web.zoom.us/meeting/register/tZElde2oqD0rG9MT0Pzr7
 x5rS0wkABR33Lb- \n\nAfter registering\, you will receive a confirmation em
 ail containing information.
X-WR-RELCALID:3096720365d43d82745a972548ef80a4
X-WR-TIMEZONE:America/Chicago
BEGIN:VTIMEZONE
TZID:America/Chicago
BEGIN:STANDARD
TZNAME:CST
DTSTART:20201101T020000
TZOFFSETFROM:-0500
TZOFFSETTO:-0600
RDATE:20211107T020000
RDATE:20221106T020000
END:STANDARD
BEGIN:DAYLIGHT
TZNAME:CDT
DTSTART:20210314T020000
TZOFFSETFROM:-0600
TZOFFSETTO:-0500
RDATE:20220313T020000
END:DAYLIGHT
END:VTIMEZONE
BEGIN:VEVENT
UID:e3c13437-c994-4c84-9e9b-84a7d16653f0
DTSTAMP:20260426T032603Z
DESCRIPTION:Move Your Mood | Webinar | Interactive Preschool Class Four\n\n
 Earn 0.4 licensing hours. The classes are designed and led by a licensed K
 -6 teacher and school librarian and Register Dietitian. A detailed lesson 
 plan is provided to participants to use during the class and as a resource
  for future use. \n\nYou are invited to a Zoom meeting. \nWhen: Jun 3\, 20
 21 10:00 AM Central Time (US and Canada) \n\nRegister in advance for this 
 meeting:\nhttps://us02web.zoom.us/meeting/register/tZElde2oqD0rG9MT0Pzr7x5
 rS0wkABR33Lb- \n\nAfter registering\, you will receive a confirmation emai
 l containing information.
DTSTART;TZID=America/Chicago:20210603T100000
DTEND;TZID=America/Chicago:20210603T103000
LOCATION:
SUMMARY:Move Your Mood | Webinar | Interactive Preschool Class Four
END:VEVENT
END:VCALENDAR
