BEGIN:VCALENDAR
VERSION:2.0
PRODID:-//midwestchildcare.org//NONSGML kigkonsult.se iCalcreator 2.30.10//
CALSCALE:GREGORIAN
METHOD:PUBLISH
UID:0669a6ad-9442-4782-8cab-e974fb0c38e3
X-WR-CALDESC:CPR\, AED AND FIRST AID FOR CHILDCARE PROVIDERS\n\nThe CPR\, A
 ED and First Aid for Childcare Providers course offered by EMS Safety Serv
 ices\, Inc. is OSHA compliant and is approved by federal\, state\, municip
 al and private/nonprofit organizations.  \n\nCPR\, AED And First Aid For C
 hildcare Providers  Features:\n\nThe Perfect Book For Caregivers Of Small 
 Children.\n\nOSHA-Compliant\n\n2-Year Certification (Including Pediatric F
 irst Aid) \n\nIdeal For:\n• Childcare Providers\n• Daycare Centers\n• Baby
 sitters\n\nCost: $65 -Cash or Check\; please bring payment to class. Check
 s can be made payable to 'Top Notch Training'\n\nMidwest Child Care Associ
 ation is in Room #200\n\nDate: 11/14/2020 (Saturday)\nTime: 9:00am - 1:00p
 m CST\nLocation: 7701 Pacific St\, Omaha\, NE 68114\n\nTo Register please 
 contact Cortney Nagler via the Registration link.
X-WR-RELCALID:3064ad874a372588a9ee4e20425ee89e
X-WR-TIMEZONE:America/Chicago
BEGIN:VTIMEZONE
TZID:America/Chicago
BEGIN:STANDARD
TZNAME:CST
DTSTART:20201101T020000
TZOFFSETFROM:-0500
TZOFFSETTO:-0600
RDATE:20211107T020000
END:STANDARD
BEGIN:DAYLIGHT
TZNAME:CDT
DTSTART:20200308T020000
TZOFFSETFROM:-0600
TZOFFSETTO:-0500
RDATE:20210314T020000
RDATE:20220313T020000
END:DAYLIGHT
END:VTIMEZONE
BEGIN:VEVENT
UID:f86afd0c-672e-4246-a05a-b532c9d1cabc
DTSTAMP:20260422T125350Z
DESCRIPTION:CPR\, AED AND FIRST AID FOR CHILDCARE PROVIDERS\n\nThe CPR\, AE
 D and First Aid for Childcare Providers course offered by EMS Safety Servi
 ces\, Inc. is OSHA compliant and is approved by federal\, state\, municipa
 l and private/nonprofit organizations.  \n\nCPR\, AED And First Aid For Ch
 ildcare Providers  Features:\n\nThe Perfect Book For Caregivers Of Small C
 hildren.\n\nOSHA-Compliant\n\n2-Year Certification (Including Pediatric Fi
 rst Aid) \n\nIdeal For:\n• Childcare Providers\n• Daycare Centers\n• Babys
 itters\n\nCost: $65 -Cash or Check\; please bring payment to class. Checks
  can be made payable to 'Top Notch Training'\n\nMidwest Child Care Associa
 tion is in Room #200\n\nDate: 11/14/2020 (Saturday)\nTime: 9:00am - 1:00pm
  CST\nLocation: 7701 Pacific St\, Omaha\, NE 68114\n\nTo Register please c
 ontact Cortney Nagler via the Registration link.
DTSTART;TZID=America/Chicago:20201114T090000
DTEND;TZID=America/Chicago:20201114T130000
LOCATION:7701 Pacific St\, Omaha\, NE 68114
SUMMARY:CPR\, First Aid\, and AED for Child Care Providers
END:VEVENT
END:VCALENDAR
