BEGIN:VCALENDAR
VERSION:2.0
PRODID:-//midwestchildcare.org//NONSGML kigkonsult.se iCalcreator 2.30.10//
CALSCALE:GREGORIAN
METHOD:PUBLISH
UID:cafb7474-9600-49ce-9530-a6e4073ba7e9
X-WR-CALDESC:
X-WR-RELCALID:55b7564f5756c3017e737227d1327df5
X-WR-TIMEZONE:America/Chicago
BEGIN:VTIMEZONE
TZID:America/Chicago
BEGIN:STANDARD
TZNAME:CST
DTSTART:20251102T020000
TZOFFSETFROM:-0500
TZOFFSETTO:-0600
RDATE:20261101T020000
END:STANDARD
BEGIN:DAYLIGHT
TZNAME:CDT
DTSTART:20260308T020000
TZOFFSETFROM:-0600
TZOFFSETTO:-0500
RDATE:20270314T020000
END:DAYLIGHT
END:VTIMEZONE
BEGIN:VEVENT
UID:ae509db8-9a16-46ed-96b4-e16a22de644c
DTSTAMP:20260425T183440Z
DESCRIPTION:
DTSTART;TZID=America/Chicago:20260503T000000
DTEND;TZID=America/Chicago:20260503T235900
LOCATION:
SUMMARY:CACFP Claim is due!
END:VEVENT
END:VCALENDAR
