BEGIN:VCALENDAR
VERSION:2.0
PRODID:-//midwestchildcare.org//NONSGML kigkonsult.se iCalcreator 2.30.10//
CALSCALE:GREGORIAN
METHOD:PUBLISH
UID:7e328870-a662-409c-9de6-4c8c45d4df83
X-WR-CALDESC:Going on a Treasure Hunt | An Interactive Preschool Class\n\nY
 ou are invited to a Zoom meeting.When: Sep 18\, 2025 09:30 AM Central Time
  (US and Canada)\n\nRegister in advance for this meeting:\nhttps://us02web
 .zoom.us/meeting/register/v8L9qoHuRAqyUtHcEtVJjQ\n\nAfter registering\, yo
 u will receive a confirmation email containing information about joining t
 he meeting.
X-WR-RELCALID:69191ace3f35f7886a5858fcf3d4799e
X-WR-TIMEZONE:America/Chicago
BEGIN:VTIMEZONE
TZID:America/Chicago
BEGIN:STANDARD
TZNAME:CST
DTSTART:20241103T020000
TZOFFSETFROM:-0500
TZOFFSETTO:-0600
RDATE:20251102T020000
RDATE:20261101T020000
END:STANDARD
BEGIN:DAYLIGHT
TZNAME:CDT
DTSTART:20250309T020000
TZOFFSETFROM:-0600
TZOFFSETTO:-0500
RDATE:20260308T020000
RDATE:20270314T020000
END:DAYLIGHT
END:VTIMEZONE
BEGIN:VEVENT
UID:8d61b836-e15d-4fcd-b71b-1b935c7f5ea3
DTSTAMP:20260420T084119Z
DESCRIPTION:Going on a Treasure Hunt | An Interactive Preschool Class\n\nYo
 u are invited to a Zoom meeting.When: Sep 18\, 2025 09:30 AM Central Time 
 (US and Canada)\n\nRegister in advance for this meeting:\nhttps://us02web.
 zoom.us/meeting/register/v8L9qoHuRAqyUtHcEtVJjQ\n\nAfter registering\, you
  will receive a confirmation email containing information about joining th
 e meeting.
DTSTART;TZID=America/Chicago:20250918T093000
DTEND;TZID=America/Chicago:20250918T100000
LOCATION:https://us02web.zoom.us/meeting/register/v8L9qoHuRAqyUtHcEtVJjQ
SUMMARY:Going on a Treasure Hunt | An Interactive Preschool Class
END:VEVENT
END:VCALENDAR
