BEGIN:VCALENDAR
VERSION:2.0
PRODID:-//midwestchildcare.org//NONSGML kigkonsult.se iCalcreator 2.30.10//
CALSCALE:GREGORIAN
METHOD:PUBLISH
UID:678a9e6a-c85f-4f6f-a3dc-055a678bf5c9
X-WR-CALDESC:Cranky Valentine | An Interactive Preschool Class\n\nYou are i
 nvited to a Zoom meeting.\nWhen: Feb 13\, 2025 10:00 AM Central Time (US a
 nd Canada)\n\nRegister in advance for this meeting:\nhttps://us02web.zoom.
 us/meeting/register/QuByNWwyTMKk2Dx30dnsZg\n\nAfter registering\, you will
  receive a confirmation email containing information about joining the mee
 ting.
X-WR-RELCALID:cbd4e7d58fe3712a509fa91b33fc2d24
X-WR-TIMEZONE:America/Chicago
BEGIN:VTIMEZONE
TZID:America/Chicago
BEGIN:STANDARD
TZNAME:CST
DTSTART:20241103T020000
TZOFFSETFROM:-0500
TZOFFSETTO:-0600
RDATE:20251102T020000
END:STANDARD
BEGIN:DAYLIGHT
TZNAME:CDT
DTSTART:20240310T020000
TZOFFSETFROM:-0600
TZOFFSETTO:-0500
RDATE:20250309T020000
RDATE:20260308T020000
END:DAYLIGHT
END:VTIMEZONE
BEGIN:VEVENT
UID:da2ed27c-afaf-4cb2-bd84-9282b362dbd1
DTSTAMP:20260419T130009Z
DESCRIPTION:Cranky Valentine | An Interactive Preschool Class\n\nYou are in
 vited to a Zoom meeting.\nWhen: Feb 13\, 2025 10:00 AM Central Time (US an
 d Canada)\n\nRegister in advance for this meeting:\nhttps://us02web.zoom.u
 s/meeting/register/QuByNWwyTMKk2Dx30dnsZg\n\nAfter registering\, you will 
 receive a confirmation email containing information about joining the meet
 ing.
DTSTART;TZID=America/Chicago:20250213T100000
DTEND;TZID=America/Chicago:20250213T110000
LOCATION:https://us02web.zoom.us/meeting/register/QuByNWwyTMKk2Dx30dnsZg
SUMMARY:Cranky Valentine | An Interactive Preschool Class
END:VEVENT
END:VCALENDAR
