BEGIN:VCALENDAR
VERSION:2.0
PRODID:-//midwestchildcare.org//NONSGML kigkonsult.se iCalcreator 2.30.10//
CALSCALE:GREGORIAN
METHOD:PUBLISH
UID:f4bcb9b0-6427-415f-b241-631099bf938d
X-WR-CALDESC:HSI Pediatric First Aid | CPR AED Child/Infant/Adult (2020)\n
 \nLocation: 7701 Pacific St\nOmaha\, NE 68114\n\n01/23/2025\, 6:00 PM - 10
 :00 PM\n\nTo Register: https://otis.osmanager4.com/#/openEnrollment?co=1&c
 id=3673037
X-WR-RELCALID:eeb137c5c0e846e168fce299ce031c83
X-WR-TIMEZONE:America/Chicago
BEGIN:VTIMEZONE
TZID:America/Chicago
BEGIN:STANDARD
TZNAME:CST
DTSTART:20241103T020000
TZOFFSETFROM:-0500
TZOFFSETTO:-0600
RDATE:20251102T020000
END:STANDARD
BEGIN:DAYLIGHT
TZNAME:CDT
DTSTART:20240310T020000
TZOFFSETFROM:-0600
TZOFFSETTO:-0500
RDATE:20250309T020000
RDATE:20260308T020000
END:DAYLIGHT
END:VTIMEZONE
BEGIN:VEVENT
UID:0f738dc1-7f54-437f-b16e-389450ebadf7
DTSTAMP:20260424T193855Z
DESCRIPTION:HSI Pediatric First Aid | CPR AED Child/Infant/Adult (2020)\n\n
 Location: 7701 Pacific St\nOmaha\, NE 68114\n\n01/23/2025\, 6:00 PM - 10:0
 0 PM\n\nTo Register: https://otis.osmanager4.com/#/openEnrollment?co=1&cid
 =3673037
DTSTART;TZID=America/Chicago:20250123T180000
DTEND;TZID=America/Chicago:20250123T220000
LOCATION:https://otis.osmanager4.com/#/openEnrollment?co=1&cid=3673037
SUMMARY:HSI Pediatric First Aid | CPR AED Child/Infant/Adult (2020)
END:VEVENT
END:VCALENDAR
