BEGIN:VCALENDAR
VERSION:2.0
PRODID:-//midwestchildcare.org//NONSGML kigkonsult.se iCalcreator 2.30.10//
CALSCALE:GREGORIAN
METHOD:PUBLISH
UID:fe165939-8e6f-49b4-834a-7d38bd6e47b1
X-WR-CALDESC:Food Allergies\, Intolerances and Sensitivities\n\nPlease regi
 ster for Food Allergies\, Intolerances and Sensitivities on Jul 30\, 2024 
 7:00 PM CDT at:\nhttps://attendee.gotowebinar.com/register/335707002407449
 0715\n\nAfter registering\, you will receive a confirmation email containi
 ng information about joining the webinar.
X-WR-RELCALID:43a5434a23db69cf42c0e6e2908fc2fa
X-WR-TIMEZONE:America/Chicago
BEGIN:VTIMEZONE
TZID:America/Chicago
BEGIN:STANDARD
TZNAME:CST
DTSTART:20231105T020000
TZOFFSETFROM:-0500
TZOFFSETTO:-0600
RDATE:20241103T020000
RDATE:20251102T020000
END:STANDARD
BEGIN:DAYLIGHT
TZNAME:CDT
DTSTART:20240310T020000
TZOFFSETFROM:-0600
TZOFFSETTO:-0500
RDATE:20250309T020000
END:DAYLIGHT
END:VTIMEZONE
BEGIN:VEVENT
UID:afcf4bbf-8756-4060-be01-4f6486a7e986
DTSTAMP:20260425T122613Z
DESCRIPTION:Food Allergies\, Intolerances and Sensitivities\n\nPlease regis
 ter for Food Allergies\, Intolerances and Sensitivities on Jul 30\, 2024 7
 :00 PM CDT at:\nhttps://attendee.gotowebinar.com/register/3357070024074490
 715\n\nAfter registering\, you will receive a confirmation email containin
 g information about joining the webinar.
DTSTART;TZID=America/Chicago:20240730T190000
DTEND;TZID=America/Chicago:20240730T200000
LOCATION:https://attendee.gotowebinar.com/register/3357070024074490715
SUMMARY:Food Allergies\, Intolerances and Sensitivities
END:VEVENT
END:VCALENDAR
