BEGIN:VCALENDAR
VERSION:2.0
PRODID:-//midwestchildcare.org//NONSGML kigkonsult.se iCalcreator 2.30.10//
CALSCALE:GREGORIAN
METHOD:PUBLISH
UID:9be1ee1f-d435-4d87-85ba-ccb202b04ead
X-WR-CALDESC:Rumble in the Jungle | An Interactive Preschool Class\n\nYou a
 re invited to a Zoom meeting.When: Jul 25\, 2024 09:30 AM Central Time (US
  and Canada)\n\nRegister in advance for this meeting:\nhttps://us02web.zoo
 m.us/meeting/register/tZIsf-6qpjoiGdbI_d3Bv4HelWFDUlViIEnL\n\nAfter regist
 ering\, you will receive a confirmation email containing information about
  joining the meeting.
X-WR-RELCALID:1f8adefc7424c689077e377d96bcd591
X-WR-TIMEZONE:America/Chicago
BEGIN:VTIMEZONE
TZID:America/Chicago
BEGIN:STANDARD
TZNAME:CST
DTSTART:20231105T020000
TZOFFSETFROM:-0500
TZOFFSETTO:-0600
RDATE:20241103T020000
RDATE:20251102T020000
END:STANDARD
BEGIN:DAYLIGHT
TZNAME:CDT
DTSTART:20240310T020000
TZOFFSETFROM:-0600
TZOFFSETTO:-0500
RDATE:20250309T020000
END:DAYLIGHT
END:VTIMEZONE
BEGIN:VEVENT
UID:5b12a5f4-e3f5-4bbd-870e-ca3d01c5b3a5
DTSTAMP:20260425T122338Z
DESCRIPTION:Rumble in the Jungle | An Interactive Preschool Class\n\nYou ar
 e invited to a Zoom meeting.When: Jul 25\, 2024 09:30 AM Central Time (US 
 and Canada)\n\nRegister in advance for this meeting:\nhttps://us02web.zoom
 .us/meeting/register/tZIsf-6qpjoiGdbI_d3Bv4HelWFDUlViIEnL\n\nAfter registe
 ring\, you will receive a confirmation email containing information about 
 joining the meeting.
DTSTART;TZID=America/Chicago:20240725T093000
DTEND;TZID=America/Chicago:20240725T103000
LOCATION:https://us02web.zoom.us/meeting/register/tZIsf-6qpjoiGdbI_d3Bv4Hel
 WFDUlViIEnL
SUMMARY:Rumble in the Jungle | An Interactive Preschool Class
END:VEVENT
END:VCALENDAR
