BEGIN:VCALENDAR
VERSION:2.0
PRODID:-//midwestchildcare.org//NONSGML kigkonsult.se iCalcreator 2.30.10//
CALSCALE:GREGORIAN
METHOD:PUBLISH
UID:558a9004-3ac7-4716-a533-5e14407f2838
X-WR-CALDESC:Rumble in the Jungle | An Interactive Preschool Class\n\nYou a
 re invited to a Zoom meeting.\nWhen: Jul 25\, 2024 10:00 AM Central Time (
 US and Canada)\n\nRegister in advance for this meeting:\nhttps://us02web.z
 oom.us/meeting/register/tZ0of-uqqj4sEtdGVElh_M8yAuARVQ9raivM\n\nAfter regi
 stering\, you will receive a confirmation email containing information abo
 ut joining the meeting.
X-WR-RELCALID:eb65138afe689a053fc8cea10e855413
X-WR-TIMEZONE:America/Chicago
BEGIN:VTIMEZONE
TZID:America/Chicago
BEGIN:STANDARD
TZNAME:CST
DTSTART:20231105T020000
TZOFFSETFROM:-0500
TZOFFSETTO:-0600
RDATE:20241103T020000
RDATE:20251102T020000
END:STANDARD
BEGIN:DAYLIGHT
TZNAME:CDT
DTSTART:20240310T020000
TZOFFSETFROM:-0600
TZOFFSETTO:-0500
RDATE:20250309T020000
END:DAYLIGHT
END:VTIMEZONE
BEGIN:VEVENT
UID:1237339b-ce2b-49a6-9e7a-54260e297f8e
DTSTAMP:20260425T122919Z
DESCRIPTION:Rumble in the Jungle | An Interactive Preschool Class\n\nYou ar
 e invited to a Zoom meeting.\nWhen: Jul 25\, 2024 10:00 AM Central Time (U
 S and Canada)\n\nRegister in advance for this meeting:\nhttps://us02web.zo
 om.us/meeting/register/tZ0of-uqqj4sEtdGVElh_M8yAuARVQ9raivM\n\nAfter regis
 tering\, you will receive a confirmation email containing information abou
 t joining the meeting.
DTSTART;TZID=America/Chicago:20240701T170000
DTEND;TZID=America/Chicago:20240701T180000
LOCATION:https://us02web.zoom.us/meeting/register/tZ0of-uqqj4sEtdGVElh_M8yA
 uARVQ9raivM
SUMMARY:Rumble in the Jungle | An Interactive Preschool Class
END:VEVENT
END:VCALENDAR
