BEGIN:VCALENDAR
VERSION:2.0
PRODID:-//midwestchildcare.org//NONSGML kigkonsult.se iCalcreator 2.30.10//
CALSCALE:GREGORIAN
METHOD:PUBLISH
UID:4b54eb8e-03c5-41a2-a4e3-a72ba196839c
X-WR-CALDESC:Ten Rules of Being a Superhero: An Interactive Preschool Class
 \nTime: Jun 27\, 2024 09:30 AM Central Time (US and Canada)\n\nJoin Zoom M
 eeting\nhttps://us02web.zoom.us/j/83924642597\n\nMeeting ID: 839 2464 2597
X-WR-RELCALID:ce90efeedad99be25aa9cd6aeaa98671
X-WR-TIMEZONE:America/Chicago
BEGIN:VTIMEZONE
TZID:America/Chicago
BEGIN:STANDARD
TZNAME:CST
DTSTART:20231105T020000
TZOFFSETFROM:-0500
TZOFFSETTO:-0600
RDATE:20241103T020000
RDATE:20251102T020000
END:STANDARD
BEGIN:DAYLIGHT
TZNAME:CDT
DTSTART:20240310T020000
TZOFFSETFROM:-0600
TZOFFSETTO:-0500
RDATE:20250309T020000
END:DAYLIGHT
END:VTIMEZONE
BEGIN:VEVENT
UID:c80100e6-2fdb-4181-a7e3-6a1b004fd3ac
DTSTAMP:20260425T141423Z
DESCRIPTION:Ten Rules of Being a Superhero: An Interactive Preschool Class
 \nTime: Jun 27\, 2024 09:30 AM Central Time (US and Canada)\n\nJoin Zoom M
 eeting\nhttps://us02web.zoom.us/j/83924642597\n\nMeeting ID: 839 2464 2597
DTSTART;TZID=America/Chicago:20240627T093000
DTEND;TZID=America/Chicago:20240627T103000
LOCATION:https://us02web.zoom.us/j/83924642597
SUMMARY:Ten Rules of Being a Superhero | An Interactive Preschool Class
END:VEVENT
END:VCALENDAR
