BEGIN:VCALENDAR
VERSION:2.0
PRODID:-//midwestchildcare.org//NONSGML kigkonsult.se iCalcreator 2.30.10//
CALSCALE:GREGORIAN
METHOD:PUBLISH
UID:c84a3bce-2728-4c8a-8c1d-b9b313341d5f
X-WR-CALDESC:Ten Rules of Being a Superhero: An Interactive Preschool Class
 \nTime: Jun 27\, 2024 09:00 AM Central Time (US and Canada)\n\nJoin Zoom M
 eeting\nhttps://us02web.zoom.us/j/85207197393\n\nMeeting ID: 852 0719 7393
X-WR-RELCALID:6bc6fdb4b24d756c2efe8f1e88f5e14e
X-WR-TIMEZONE:America/Chicago
BEGIN:VTIMEZONE
TZID:America/Chicago
BEGIN:STANDARD
TZNAME:CST
DTSTART:20231105T020000
TZOFFSETFROM:-0500
TZOFFSETTO:-0600
RDATE:20241103T020000
RDATE:20251102T020000
END:STANDARD
BEGIN:DAYLIGHT
TZNAME:CDT
DTSTART:20240310T020000
TZOFFSETFROM:-0600
TZOFFSETTO:-0500
RDATE:20250309T020000
END:DAYLIGHT
END:VTIMEZONE
BEGIN:VEVENT
UID:09e0b5fd-c501-4f4a-84dd-ed5b4af802df
DTSTAMP:20260425T141105Z
DESCRIPTION:Ten Rules of Being a Superhero: An Interactive Preschool Class
 \nTime: Jun 27\, 2024 09:00 AM Central Time (US and Canada)\n\nJoin Zoom M
 eeting\nhttps://us02web.zoom.us/j/85207197393\n\nMeeting ID: 852 0719 7393
DTSTART;TZID=America/Chicago:20240627T090000
DTEND;TZID=America/Chicago:20240627T090000
LOCATION:https://us02web.zoom.us/j/85207197393
SUMMARY:Ten Rules of Being a Superhero | An Interactive Preschool Class
END:VEVENT
END:VCALENDAR
