BEGIN:VCALENDAR
VERSION:2.0
PRODID:-//midwestchildcare.org//NONSGML kigkonsult.se iCalcreator 2.30.10//
CALSCALE:GREGORIAN
METHOD:PUBLISH
UID:83b49818-6272-4e3a-b7ab-8e11627eea8c
X-WR-CALDESC:Summer Song: An Interactive Preschool Class\nTime: Jun 20\, 20
 24 10:00 AM Central Time (US and Canada)\n\nJoin Zoom Meeting\nhttps://us0
 2web.zoom.us/j/83236585215\n\nMeeting ID: 832 3658 5215
X-WR-RELCALID:ee2e4ea331cad03bf2136ea0d39c241e
X-WR-TIMEZONE:America/Chicago
BEGIN:VTIMEZONE
TZID:America/Chicago
BEGIN:STANDARD
TZNAME:CST
DTSTART:20231105T020000
TZOFFSETFROM:-0500
TZOFFSETTO:-0600
RDATE:20241103T020000
RDATE:20251102T020000
END:STANDARD
BEGIN:DAYLIGHT
TZNAME:CDT
DTSTART:20240310T020000
TZOFFSETFROM:-0600
TZOFFSETTO:-0500
RDATE:20250309T020000
END:DAYLIGHT
END:VTIMEZONE
BEGIN:VEVENT
UID:f74989bc-b1c1-4948-8b62-3f98a3f22f6c
DTSTAMP:20260425T141256Z
DESCRIPTION:Summer Song: An Interactive Preschool Class\nTime: Jun 20\, 202
 4 10:00 AM Central Time (US and Canada)\n\nJoin Zoom Meeting\nhttps://us02
 web.zoom.us/j/83236585215\n\nMeeting ID: 832 3658 5215
DTSTART;TZID=America/Chicago:20240620T100000
DTEND;TZID=America/Chicago:20240620T110000
LOCATION:https://us02web.zoom.us/j/83236585215
SUMMARY:Summer Song | An Interactive Preschool Class
END:VEVENT
END:VCALENDAR
