BEGIN:VCALENDAR
VERSION:2.0
PRODID:-//midwestchildcare.org//NONSGML kigkonsult.se iCalcreator 2.30.10//
CALSCALE:GREGORIAN
METHOD:PUBLISH
UID:6480254d-544f-4da1-b97e-0ecba4f81c14
X-WR-CALDESC:Summer Song: An Interactive Preschool Class\n\nTime: Jun 20\, 
 2024 09:00 AM Central Time (US and Canada)\n\nJoin Zoom Meeting\nhttps://u
 s02web.zoom.us/j/89046510758\n\nMeeting ID: 890 4651 0758
X-WR-RELCALID:30d552eb78683a836ff0b4bab669016f
X-WR-TIMEZONE:America/Chicago
BEGIN:VTIMEZONE
TZID:America/Chicago
BEGIN:STANDARD
TZNAME:CST
DTSTART:20231105T020000
TZOFFSETFROM:-0500
TZOFFSETTO:-0600
RDATE:20241103T020000
RDATE:20251102T020000
END:STANDARD
BEGIN:DAYLIGHT
TZNAME:CDT
DTSTART:20240310T020000
TZOFFSETFROM:-0600
TZOFFSETTO:-0500
RDATE:20250309T020000
END:DAYLIGHT
END:VTIMEZONE
BEGIN:VEVENT
UID:030540bb-46b3-438c-be69-936876792c5b
DTSTAMP:20260425T141551Z
DESCRIPTION:Summer Song: An Interactive Preschool Class\n\nTime: Jun 20\, 2
 024 09:00 AM Central Time (US and Canada)\n\nJoin Zoom Meeting\nhttps://us
 02web.zoom.us/j/89046510758\n\nMeeting ID: 890 4651 0758
DTSTART;TZID=America/Chicago:20240620T090000
DTEND;TZID=America/Chicago:20240620T100000
LOCATION:https://us02web.zoom.us/j/89046510758
SUMMARY:Summer Song | An Interactive Preschool Class
END:VEVENT
END:VCALENDAR
