BEGIN:VCALENDAR
VERSION:2.0
PRODID:-//midwestchildcare.org//NONSGML kigkonsult.se iCalcreator 2.30.10//
CALSCALE:GREGORIAN
METHOD:PUBLISH
UID:f2e9b4f7-efc8-4f76-bda8-554cea3bc353
X-WR-CALDESC:A Camping Spree with Mr. Magee: An Interactive Preschool Class
 \nTime: Jun 13\, 2024 09:00 AM Central Time (US and Canada)\n\nJoin Zoom M
 eeting\nhttps://us02web.zoom.us/j/87069276251\n\nMeeting ID: 870 6927 6251
X-WR-RELCALID:3cbfcfaf65cf96994fec958e9106400f
X-WR-TIMEZONE:America/Chicago
BEGIN:VTIMEZONE
TZID:America/Chicago
BEGIN:STANDARD
TZNAME:CST
DTSTART:20231105T020000
TZOFFSETFROM:-0500
TZOFFSETTO:-0600
RDATE:20241103T020000
RDATE:20251102T020000
END:STANDARD
BEGIN:DAYLIGHT
TZNAME:CDT
DTSTART:20240310T020000
TZOFFSETFROM:-0600
TZOFFSETTO:-0500
RDATE:20250309T020000
END:DAYLIGHT
END:VTIMEZONE
BEGIN:VEVENT
UID:e2a16179-05b1-4fe4-96cc-b93e311cd1fa
DTSTAMP:20260425T141256Z
DESCRIPTION:A Camping Spree with Mr. Magee: An Interactive Preschool Class
 \nTime: Jun 13\, 2024 09:00 AM Central Time (US and Canada)\n\nJoin Zoom M
 eeting\nhttps://us02web.zoom.us/j/87069276251\n\nMeeting ID: 870 6927 6251
DTSTART;TZID=America/Chicago:20240613T090000
DTEND;TZID=America/Chicago:20240613T100000
LOCATION:https://us02web.zoom.us/j/87069276251
SUMMARY:A Camping Spree with Mr. Magee | An Interactive Preschool Class
END:VEVENT
END:VCALENDAR
